BEGIN:VCALENDAR
VERSION:2.0
PRODID:-//jEvents 2.0 for Joomla//EN
CALSCALE:GREGORIAN
METHOD:PUBLISH
BEGIN:VTIMEZONE
TZID:Europe/Stockholm
BEGIN:STANDARD
DTSTART:20170226T180000
RDATE:20170326T030000
TZOFFSETFROM:+0200
TZOFFSETTO:+0100
TZNAME:Europe/Stockholm CET
END:STANDARD
BEGIN:STANDARD
DTSTART:20171029T020000
RDATE:20180325T030000
TZOFFSETFROM:+0200
TZOFFSETTO:+0100
TZNAME:Europe/Stockholm CET
END:STANDARD
BEGIN:STANDARD
DTSTART:20181028T020000
RDATE:20190331T030000
TZOFFSETFROM:+0200
TZOFFSETTO:+0100
TZNAME:Europe/Stockholm CET
END:STANDARD
BEGIN:STANDARD
DTSTART:20191027T020000
RDATE:20200329T030000
TZOFFSETFROM:+0200
TZOFFSETTO:+0100
TZNAME:Europe/Stockholm CET
END:STANDARD
BEGIN:STANDARD
DTSTART:20201025T020000
RDATE:20210328T030000
TZOFFSETFROM:+0200
TZOFFSETTO:+0100
TZNAME:Europe/Stockholm CET
END:STANDARD
BEGIN:STANDARD
DTSTART:20211031T020000
RDATE:20220327T030000
TZOFFSETFROM:+0200
TZOFFSETTO:+0100
TZNAME:Europe/Stockholm CET
END:STANDARD
BEGIN:STANDARD
DTSTART:20221030T020000
RDATE:20230326T030000
TZOFFSETFROM:+0200
TZOFFSETTO:+0100
TZNAME:Europe/Stockholm CET
END:STANDARD
BEGIN:STANDARD
DTSTART:20231029T020000
RDATE:20240331T030000
TZOFFSETFROM:+0200
TZOFFSETTO:+0100
TZNAME:Europe/Stockholm CET
END:STANDARD
BEGIN:STANDARD
DTSTART:20241027T020000
RDATE:20250330T030000
TZOFFSETFROM:+0200
TZOFFSETTO:+0100
TZNAME:Europe/Stockholm CET
END:STANDARD
BEGIN:STANDARD
DTSTART:20251026T020000
RDATE:20260329T030000
TZOFFSETFROM:+0200
TZOFFSETTO:+0100
TZNAME:Europe/Stockholm CET
END:STANDARD
BEGIN:STANDARD
DTSTART:20261025T020000
RDATE:20270328T030000
TZOFFSETFROM:+0200
TZOFFSETTO:+0100
TZNAME:Europe/Stockholm CET
END:STANDARD
BEGIN:STANDARD
DTSTART:20271031T020000
RDATE:20280326T030000
TZOFFSETFROM:+0200
TZOFFSETTO:+0100
TZNAME:Europe/Stockholm CET
END:STANDARD
BEGIN:STANDARD
DTSTART:20281029T020000
RDATE:20290325T030000
TZOFFSETFROM:+0200
TZOFFSETTO:+0100
TZNAME:Europe/Stockholm CET
END:STANDARD
BEGIN:STANDARD
DTSTART:20291028T020000
RDATE:20300331T030000
TZOFFSETFROM:+0200
TZOFFSETTO:+0100
TZNAME:Europe/Stockholm CET
END:STANDARD
BEGIN:STANDARD
DTSTART:20301027T020000
RDATE:20310330T030000
TZOFFSETFROM:+0200
TZOFFSETTO:+0100
TZNAME:Europe/Stockholm CET
END:STANDARD
BEGIN:DAYLIGHT
DTSTART:20170326T030000
RDATE:20171029T020000
TZOFFSETFROM:+0100
TZOFFSETTO:+0200
TZNAME:Europe/Stockholm CEST
END:DAYLIGHT
BEGIN:DAYLIGHT
DTSTART:20180325T030000
RDATE:20181028T020000
TZOFFSETFROM:+0100
TZOFFSETTO:+0200
TZNAME:Europe/Stockholm CEST
END:DAYLIGHT
BEGIN:DAYLIGHT
DTSTART:20190331T030000
RDATE:20191027T020000
TZOFFSETFROM:+0100
TZOFFSETTO:+0200
TZNAME:Europe/Stockholm CEST
END:DAYLIGHT
BEGIN:DAYLIGHT
DTSTART:20200329T030000
RDATE:20201025T020000
TZOFFSETFROM:+0100
TZOFFSETTO:+0200
TZNAME:Europe/Stockholm CEST
END:DAYLIGHT
BEGIN:DAYLIGHT
DTSTART:20210328T030000
RDATE:20211031T020000
TZOFFSETFROM:+0100
TZOFFSETTO:+0200
TZNAME:Europe/Stockholm CEST
END:DAYLIGHT
BEGIN:DAYLIGHT
DTSTART:20220327T030000
RDATE:20221030T020000
TZOFFSETFROM:+0100
TZOFFSETTO:+0200
TZNAME:Europe/Stockholm CEST
END:DAYLIGHT
BEGIN:DAYLIGHT
DTSTART:20230326T030000
RDATE:20231029T020000
TZOFFSETFROM:+0100
TZOFFSETTO:+0200
TZNAME:Europe/Stockholm CEST
END:DAYLIGHT
BEGIN:DAYLIGHT
DTSTART:20240331T030000
RDATE:20241027T020000
TZOFFSETFROM:+0100
TZOFFSETTO:+0200
TZNAME:Europe/Stockholm CEST
END:DAYLIGHT
BEGIN:DAYLIGHT
DTSTART:20250330T030000
RDATE:20251026T020000
TZOFFSETFROM:+0100
TZOFFSETTO:+0200
TZNAME:Europe/Stockholm CEST
END:DAYLIGHT
BEGIN:DAYLIGHT
DTSTART:20260329T030000
RDATE:20261025T020000
TZOFFSETFROM:+0100
TZOFFSETTO:+0200
TZNAME:Europe/Stockholm CEST
END:DAYLIGHT
BEGIN:DAYLIGHT
DTSTART:20270328T030000
RDATE:20271031T020000
TZOFFSETFROM:+0100
TZOFFSETTO:+0200
TZNAME:Europe/Stockholm CEST
END:DAYLIGHT
BEGIN:DAYLIGHT
DTSTART:20280326T030000
RDATE:20281029T020000
TZOFFSETFROM:+0100
TZOFFSETTO:+0200
TZNAME:Europe/Stockholm CEST
END:DAYLIGHT
BEGIN:DAYLIGHT
DTSTART:20290325T030000
RDATE:20291028T020000
TZOFFSETFROM:+0100
TZOFFSETTO:+0200
TZNAME:Europe/Stockholm CEST
END:DAYLIGHT
BEGIN:DAYLIGHT
DTSTART:20300331T030000
RDATE:20301027T020000
TZOFFSETFROM:+0100
TZOFFSETTO:+0200
TZNAME:Europe/Stockholm CEST
END:DAYLIGHT
END:VTIMEZONE
BEGIN:VEVENT
UID:005743b1c68d3eeaa7e3243380b6d915
CATEGORIES:VIF
CREATED:20180222T212044
SUMMARY:Årsmöte VIF
GEO:11.8517704;57.67034531
LOCATION:LSS Klubbhus - Solhöjdsgatan 16\, Västra Frölunda\, \, 426 76\, 
URL;VALUE=URI:https://www.ifboat.se.hemsida.eu/kalender/icalrepeat.detail/2018/02/27/37/-
 /arsmoete-vif-geo-11-8517704-57-67034531?tmpl=component
DESCRIPTION:<div class="jev_evdt_location"><p>Årsmöte 2018</p><p>Välkommen till VIF's å
 rsmöte!</p><p>Tid: tisdag 27 februari kl. 18:00.</p><p>Plats: LSS klubbhus,
  Solhöjdsgatan 16 i Långedrag.</p><p>Dagordning:</p><ol><li>Årsmötets öppna
 nde</li><li>Fråga om mötets stadgeenliga utlysande.</li><li>Val av funktion
 ärer för årsmötet, ordförande, sekreterare, 2 justeringsmän.</li><li>Fastst
 älla dagordning för årsmötet</li><li>Registrering av röstberättigade medlem
 mar.</li><li>Föredragning av verksamhetsberättelsen</li><li>Föredragning av
  revisionsberättelsen.</li><li>Fråga om ansvarsfrihet för styrelsen för tid
 en revisionen avser.</li><li>Val av:<ol style="list-style-type: lower-alpha
 ;"><li>Styrelsens ordförande för en tid av ett år</li><li>Fem övriga styrel
 seledamöter för en tid av ett år</li><li>Två revisorer för en tid av ett år
 .</li><li>Valberedning till förberedande av förslag till styrelse vid nästa
  årsmöte.</li></ol></li><li>Rapport från Svenska IF-båtförbundets årsmöte.<
 /li><li>Information mästerskap och västkustserien 2018.</li><li>Information
  om övriga aktiviteter 2018</li><li>Övriga frågor.</li><li>Årsmötets avslut
 ande. </li></ol><p>Anmälan för inköp av fika:</p><p><joomla-hidden-mail  is
 -link="1" is-email="1" first="ZnJlZHJpay5oYW5zc29uc21haWw=" last="Z21haWwuY
 29t" text="ZnJlZHJpay5oYW5zc29uc21haWxAZ21haWwuY29t" base="" >Den här e-pos
 tadressen skyddas mot spambots. Du måste tillåta JavaScript för att se den.
 </joomla-hidden-mail> eller tel. 0763-988863<br /><joomla-hidden-mail  is-l
 ink="1" is-email="1" first="am9vcC5zb21ob3JzdA==" last="Z21haWwuY29t" text=
 "am9vcC5zb21ob3JzdEBnbWFpbC5jb20=" base="" >Den här e-postadressen skyddas 
 mot spambots. Du måste tillåta JavaScript för att se den.</joomla-hidden-ma
 il> eller tel. 0723-718160</p></div><div class="jev_evdt_extrainf">&nbsp;</
 div> <a href="https://www.ifboat.se.hemsida.eu/kalender/icalrepeat.detail/2
 018/02/27/37/-/arsmoete-vif-geo-11-8517704-57-67034531?tmpl=component">This
  event was imported from: https://www.ifboat.se.hemsida.eu/kalender/icalrep
 eat.detail/2018/02/27/37/-/arsmoete-vif-geo-11-8517704-57-67034531?tmpl=com
 ponent</a>CONTACT:Fredrik Hansson, 0763-988863
DTSTAMP:20260421T130147
DTSTART;TZID=Europe/Stockholm:20180227T180000
DTEND;TZID=Europe/Stockholm:20180227T200000
SEQUENCE:0
TRANSP:OPAQUE
END:VEVENT
END:VCALENDAR