BEGIN:VCALENDAR
VERSION:2.0
PRODID:-//jEvents 2.0 for Joomla//EN
CALSCALE:GREGORIAN
METHOD:PUBLISH
BEGIN:VTIMEZONE
TZID:Europe/Stockholm
BEGIN:STANDARD
DTSTART:20241027T020000
RDATE:20250330T030000
TZOFFSETFROM:+0200
TZOFFSETTO:+0100
TZNAME:Europe/Stockholm CET
END:STANDARD
BEGIN:STANDARD
DTSTART:20251026T020000
RDATE:20260329T030000
TZOFFSETFROM:+0200
TZOFFSETTO:+0100
TZNAME:Europe/Stockholm CET
END:STANDARD
BEGIN:STANDARD
DTSTART:20261025T020000
RDATE:20270328T030000
TZOFFSETFROM:+0200
TZOFFSETTO:+0100
TZNAME:Europe/Stockholm CET
END:STANDARD
BEGIN:STANDARD
DTSTART:20271031T020000
RDATE:20280326T030000
TZOFFSETFROM:+0200
TZOFFSETTO:+0100
TZNAME:Europe/Stockholm CET
END:STANDARD
BEGIN:STANDARD
DTSTART:20281029T020000
RDATE:20290325T030000
TZOFFSETFROM:+0200
TZOFFSETTO:+0100
TZNAME:Europe/Stockholm CET
END:STANDARD
BEGIN:STANDARD
DTSTART:20291028T020000
RDATE:20300331T030000
TZOFFSETFROM:+0200
TZOFFSETTO:+0100
TZNAME:Europe/Stockholm CET
END:STANDARD
BEGIN:STANDARD
DTSTART:20301027T020000
RDATE:20310330T030000
TZOFFSETFROM:+0200
TZOFFSETTO:+0100
TZNAME:Europe/Stockholm CET
END:STANDARD
BEGIN:DAYLIGHT
DTSTART:20240611T000000
RDATE:20241027T020000
TZOFFSETFROM:+0100
TZOFFSETTO:+0200
TZNAME:Europe/Stockholm CEST
END:DAYLIGHT
BEGIN:DAYLIGHT
DTSTART:20250330T030000
RDATE:20251026T020000
TZOFFSETFROM:+0100
TZOFFSETTO:+0200
TZNAME:Europe/Stockholm CEST
END:DAYLIGHT
BEGIN:DAYLIGHT
DTSTART:20260329T030000
RDATE:20261025T020000
TZOFFSETFROM:+0100
TZOFFSETTO:+0200
TZNAME:Europe/Stockholm CEST
END:DAYLIGHT
BEGIN:DAYLIGHT
DTSTART:20270328T030000
RDATE:20271031T020000
TZOFFSETFROM:+0100
TZOFFSETTO:+0200
TZNAME:Europe/Stockholm CEST
END:DAYLIGHT
BEGIN:DAYLIGHT
DTSTART:20280326T030000
RDATE:20281029T020000
TZOFFSETFROM:+0100
TZOFFSETTO:+0200
TZNAME:Europe/Stockholm CEST
END:DAYLIGHT
BEGIN:DAYLIGHT
DTSTART:20290325T030000
RDATE:20291028T020000
TZOFFSETFROM:+0100
TZOFFSETTO:+0200
TZNAME:Europe/Stockholm CEST
END:DAYLIGHT
BEGIN:DAYLIGHT
DTSTART:20300331T030000
RDATE:20301027T020000
TZOFFSETFROM:+0100
TZOFFSETTO:+0200
TZNAME:Europe/Stockholm CEST
END:DAYLIGHT
END:VTIMEZONE
BEGIN:VEVENT
UID:4b566db4812dc0c20205f626f233a518
CATEGORIES:IF-båtförbundet
CREATED:20250515T224210
SUMMARY:International IF-Boat Meeting
GEO:13.09875011;54.3179512
LOCATION:Stralsund (Copy) - \, Stralsund\, \, \, 
URL;VALUE=URI:https://www.ifboat.se.hemsida.eu/kalender/icalrepeat.detail/2025/06/12/314/
 -/international-if-boat-meeting-geo-13-09875011-54-3179512?tmpl=component
DESCRIPTION:<p>Tyska IF-båtföreningen bjuder in till <strong>International IF-Boat Meet
 ing</strong> i Stralsund:</p><p><a href="&gt;&gt;https://if-boot.de/index.p
 hp/fahrten/ostsee/521-internationales-if-boot-treffen-2025" target="_self">
 https://if-boot.de/index.php/fahrten/ostsee/521-internationales-if-boot-tre
 ffen-2025</a></p><p><a href="https://ycstr.de/" target="_self">https://ycst
 r.de/</a></p><p data-start="95" data-end="145">Dear IF-Boat sailors and tho
 se who aspire to be!</p><p data-start="147" data-end="284">We are delighted
  to announce that the German IF-Boat Class Association e.V. is inviting you
  to an international gathering in Stralsund.</p><p data-start="286" data-en
 d="437">The event will offer numerous opportunities to meet, exchange exper
 iences, and participate in races on the Bodden waters north of the Hanseati
 c city.</p><p data-start="439" data-end="597">The focus is on the joy of sa
 iling rather than serious competition. We look forward to welcoming many na
 tional and international guests with their families.</p><p data-start="599"
  data-end="817">We aim to share knowledge about our classic IF-Boat, includ
 ing regatta tactics, repairs, and sailing trips. Our goal is to create a va
 luable learning platform for both experienced IF-Boat sailors and new boat 
 owners.</p><p data-start="819" data-end="1053">Our event will be part of th
 e <strong data-start="849" data-end="880">75th Stralsund Sailing Week</stro
 ng>, an annual sailing spectacle since 1949 that fills the entire city with
  maritime flair. Here is the link to the event: <a href="https://ssw.my-odo
 o.de/" data-start="1000" data-end="1050"></a><a href="https://ssw.my-odoo.d
 e/" target="_blank" rel="noopener"></a><a href="https://ssw.my-odoo.de/" ta
 rget="_self">https://ssw.my-odoo.de/</a>.</p><p data-start="1055" data-end=
 "1191">The races will be hosted by <a href="https://ycstr.de/" target="_bla
 nk" rel="noopener"><strong data-start="1083" data-end="1112">Yachtclub Stre
 lasund e.V.</strong></a>, and we are warmly invited to participate in this 
 prestigious sailing event.</p><p data-start="1193" data-end="1395">The prog
 ram for our class will be coordinated in advance with the organizers, ensur
 ing well-planned races.</p><p data-start="1397" data-end="1517"><a href="ht
 tps://www.manage2sail.com/de-DE/event/7b720faf-ba85-4e7f-8658-4099cd46cd80#
 !/" target="_blank" rel="noopener"><strong data-start="1397" data-end="1445
 ">Race registration and official announcements</strong> will be available v
 ia the manage2sail portal.</a></p><h3 data-start="1519" data-end="1546">Pre
 liminary Schedule:<br /><br /></h3><p data-start="44" data-end="479"><stron
 g data-start="44" data-end="94">Thursday and Friday, June 12th and 13th, 20
 25:</strong> Arrival.<br data-start="103" data-end="106" /> <strong data-st
 art="106" data-end="134">Friday, June 13th, 2025:</strong> 5:00 PM to 9:00 
 PM – IF-Boat Reception at the Pump House.<br data-start="192" data-end="195
 " /> <strong data-start="195" data-end="225">Saturday, June 14th, 2025:</st
 rong> Regatta around Hiddensee, Start: 8:00 AM (approx. 35 nautical miles, 
 course may be shortened in moderate wind conditions), followed by evening e
 vent (Sailors' Party).<br data-start="392" data-end="395" /> <strong data-s
 tart="395" data-end="423">Sunday, June 15th, 2025:</strong> Joint breakfast
 , followed by a short race, departure.</p><h3 data-start="1854" data-end="1
 887">International Participation</h3><p data-start="1889" data-end="2263">W
 e warmly welcome sailors from <strong data-start="1920" data-end="1988">Swe
 den, Denmark, Norway, the Netherlands, and the United Kingdom</strong> to j
 oin this special event. We sincerely hope that many international guests wi
 ll find their way to the historic Hanseatic city of Stralsund to celebrate 
 the joy of sailing with us, make new connections, and experience the unique
  maritime atmosphere of this historic town.</p><h3 data-start="2265" data-e
 nd="2286">About Stralsund</h3><p data-start="2288" data-end="2675">Stralsun
 d, located at the bridge to <strong data-start="2324" data-end="2340">Rügen
  Island</strong>, is a remarkable city that was added to the <strong data-s
 tart="2385" data-end="2423">UNESCO World Heritage List in 2002</strong>. Th
 e historic old town boasts around <strong data-start="2461" data-end="2492"
 >520 architectural monuments</strong> and is surrounded by water—Strelasund
  and the city’s ponds. The city’s iconic waterfront skyline is shaped by th
 e harbor and its three prominent parish churches, visible from afar.</p><p 
 data-start="2677" data-end="2750">We look forward to welcoming you to this 
 extraordinary sailing event!</p> <a href="https://www.ifboat.se.hemsida.eu/
 kalender/icalrepeat.detail/2025/06/12/314/-/international-if-boat-meeting-g
 eo-13-09875011-54-3179512?tmpl=component">This event was imported from: htt
 ps://www.ifboat.se.hemsida.eu/kalender/icalrepeat.detail/2025/06/12/314/-/i
 nternational-if-boat-meeting-geo-13-09875011-54-3179512?tmpl=component</a>
X-ALT-DESC;FMTTYPE=text/html:<p>Tyska IF-båtföreningen bjuder in till <strong>International IF-Boat Meet
 ing</strong> i Stralsund:</p><p><a href="https://www.ifboat.se.hemsida.eu/&
 gt;&gt;https://if-boot.de/index.php/fahrten/ostsee/521-internationales-if-b
 oot-treffen-2025" target="_self">https://if-boot.de/index.php/fahrten/ostse
 e/521-internationales-if-boot-treffen-2025</a></p><p><a href="https://ycstr
 .de/" target="_self">https://ycstr.de/</a></p><p data-start="95" data-end="
 145">Dear IF-Boat sailors and those who aspire to be!</p><p data-start="147
 " data-end="284">We are delighted to announce that the German IF-Boat Class
  Association e.V. is inviting you to an international gathering in Stralsun
 d.</p><p data-start="286" data-end="437">The event will offer numerous oppo
 rtunities to meet, exchange experiences, and participate in races on the Bo
 dden waters north of the Hanseatic city.</p><p data-start="439" data-end="5
 97">The focus is on the joy of sailing rather than serious competition. We 
 look forward to welcoming many national and international guests with their
  families.</p><p data-start="599" data-end="817">We aim to share knowledge 
 about our classic IF-Boat, including regatta tactics, repairs, and sailing 
 trips. Our goal is to create a valuable learning platform for both experien
 ced IF-Boat sailors and new boat owners.</p><p data-start="819" data-end="1
 053">Our event will be part of the <strong data-start="849" data-end="880">
 75th Stralsund Sailing Week</strong>, an annual sailing spectacle since 194
 9 that fills the entire city with maritime flair. Here is the link to the e
 vent: <a href="https://ssw.my-odoo.de/" data-start="1000" data-end="1050"><
 /a><a href="https://ssw.my-odoo.de/" target="_blank" rel="noopener"></a><a 
 href="https://ssw.my-odoo.de/" target="_self">https://ssw.my-odoo.de/</a>.<
 /p><p data-start="1055" data-end="1191">The races will be hosted by <a href
 ="https://ycstr.de/" target="_blank" rel="noopener"><strong data-start="108
 3" data-end="1112">Yachtclub Strelasund e.V.</strong></a>, and we are warml
 y invited to participate in this prestigious sailing event.</p><p data-star
 t="1193" data-end="1395">The program for our class will be coordinated in a
 dvance with the organizers, ensuring well-planned races.</p><p data-start="
 1397" data-end="1517"><a href="https://www.manage2sail.com/de-DE/event/7b72
 0faf-ba85-4e7f-8658-4099cd46cd80#!/" target="_blank" rel="noopener"><strong
  data-start="1397" data-end="1445">Race registration and official announcem
 ents</strong> will be available via the manage2sail portal.</a></p><h3 data
 -start="1519" data-end="1546">Preliminary Schedule:<br /><br /></h3><p data
 -start="44" data-end="479"><strong data-start="44" data-end="94">Thursday a
 nd Friday, June 12th and 13th, 2025:</strong> Arrival.<br data-start="103" 
 data-end="106" /> <strong data-start="106" data-end="134">Friday, June 13th
 , 2025:</strong> 5:00 PM to 9:00 PM – IF-Boat Reception at the Pump House.<
 br data-start="192" data-end="195" /> <strong data-start="195" data-end="22
 5">Saturday, June 14th, 2025:</strong> Regatta around Hiddensee, Start: 8:0
 0 AM (approx. 35 nautical miles, course may be shortened in moderate wind c
 onditions), followed by evening event (Sailors' Party).<br data-start="392"
  data-end="395" /> <strong data-start="395" data-end="423">Sunday, June 15t
 h, 2025:</strong> Joint breakfast, followed by a short race, departure.</p>
 <h3 data-start="1854" data-end="1887">International Participation</h3><p da
 ta-start="1889" data-end="2263">We warmly welcome sailors from <strong data
 -start="1920" data-end="1988">Sweden, Denmark, Norway, the Netherlands, and
  the United Kingdom</strong> to join this special event. We sincerely hope 
 that many international guests will find their way to the historic Hanseati
 c city of Stralsund to celebrate the joy of sailing with us, make new conne
 ctions, and experience the unique maritime atmosphere of this historic town
 .</p><h3 data-start="2265" data-end="2286">About Stralsund</h3><p data-star
 t="2288" data-end="2675">Stralsund, located at the bridge to <strong data-s
 tart="2324" data-end="2340">Rügen Island</strong>, is a remarkable city tha
 t was added to the <strong data-start="2385" data-end="2423">UNESCO World H
 eritage List in 2002</strong>. The historic old town boasts around <strong 
 data-start="2461" data-end="2492">520 architectural monuments</strong> and 
 is surrounded by water—Strelasund and the city’s ponds. The city’s iconic w
 aterfront skyline is shaped by the harbor and its three prominent parish ch
 urches, visible from afar.</p><p data-start="2677" data-end="2750">We look 
 forward to welcoming you to this extraordinary sailing event!</p> <a href="
 https://www.ifboat.se.hemsida.eu/kalender/icalrepeat.detail/2025/06/12/314/
 -/international-if-boat-meeting-geo-13-09875011-54-3179512?tmpl=component">
 This event was imported from: https://www.ifboat.se.hemsida.eu/kalender/ica
 lrepeat.detail/2025/06/12/314/-/international-if-boat-meeting-geo-13-098750
 11-54-3179512?tmpl=component</a>CONTACT: Den här e-postadressen skyddas mot spambots. Du måste tillåta JavaScript för att se den.
DTSTAMP:20260420T185510
DTSTART;TZID=Europe/Stockholm;VALUE=DATE:20250612
DTEND;TZID=Europe/Stockholm;VALUE=DATE:20250616
SEQUENCE:0
TRANSP:OPAQUE
END:VEVENT
END:VCALENDAR