BEGIN:VCALENDAR
VERSION:2.0
PRODID:-//jEvents 2.0 for Joomla//EN
CALSCALE:GREGORIAN
METHOD:PUBLISH
BEGIN:VTIMEZONE
TZID:Europe/Stockholm
BEGIN:STANDARD
DTSTART:20241027T020000
RDATE:20250330T030000
TZOFFSETFROM:+0200
TZOFFSETTO:+0100
TZNAME:Europe/Stockholm CET
END:STANDARD
BEGIN:STANDARD
DTSTART:20251026T020000
RDATE:20260329T030000
TZOFFSETFROM:+0200
TZOFFSETTO:+0100
TZNAME:Europe/Stockholm CET
END:STANDARD
BEGIN:STANDARD
DTSTART:20261025T020000
RDATE:20270328T030000
TZOFFSETFROM:+0200
TZOFFSETTO:+0100
TZNAME:Europe/Stockholm CET
END:STANDARD
BEGIN:STANDARD
DTSTART:20271031T020000
RDATE:20280326T030000
TZOFFSETFROM:+0200
TZOFFSETTO:+0100
TZNAME:Europe/Stockholm CET
END:STANDARD
BEGIN:STANDARD
DTSTART:20281029T020000
RDATE:20290325T030000
TZOFFSETFROM:+0200
TZOFFSETTO:+0100
TZNAME:Europe/Stockholm CET
END:STANDARD
BEGIN:STANDARD
DTSTART:20291028T020000
RDATE:20300331T030000
TZOFFSETFROM:+0200
TZOFFSETTO:+0100
TZNAME:Europe/Stockholm CET
END:STANDARD
BEGIN:STANDARD
DTSTART:20301027T020000
RDATE:20310330T030000
TZOFFSETFROM:+0200
TZOFFSETTO:+0100
TZNAME:Europe/Stockholm CET
END:STANDARD
BEGIN:DAYLIGHT
DTSTART:20240520T000000
RDATE:20241027T020000
TZOFFSETFROM:+0100
TZOFFSETTO:+0200
TZNAME:Europe/Stockholm CEST
END:DAYLIGHT
BEGIN:DAYLIGHT
DTSTART:20250330T030000
RDATE:20251026T020000
TZOFFSETFROM:+0100
TZOFFSETTO:+0200
TZNAME:Europe/Stockholm CEST
END:DAYLIGHT
BEGIN:DAYLIGHT
DTSTART:20260329T030000
RDATE:20261025T020000
TZOFFSETFROM:+0100
TZOFFSETTO:+0200
TZNAME:Europe/Stockholm CEST
END:DAYLIGHT
BEGIN:DAYLIGHT
DTSTART:20270328T030000
RDATE:20271031T020000
TZOFFSETFROM:+0100
TZOFFSETTO:+0200
TZNAME:Europe/Stockholm CEST
END:DAYLIGHT
BEGIN:DAYLIGHT
DTSTART:20280326T030000
RDATE:20281029T020000
TZOFFSETFROM:+0100
TZOFFSETTO:+0200
TZNAME:Europe/Stockholm CEST
END:DAYLIGHT
BEGIN:DAYLIGHT
DTSTART:20290325T030000
RDATE:20291028T020000
TZOFFSETFROM:+0100
TZOFFSETTO:+0200
TZNAME:Europe/Stockholm CEST
END:DAYLIGHT
BEGIN:DAYLIGHT
DTSTART:20300331T030000
RDATE:20301027T020000
TZOFFSETFROM:+0100
TZOFFSETTO:+0200
TZNAME:Europe/Stockholm CEST
END:DAYLIGHT
END:VTIMEZONE
BEGIN:VEVENT
UID:bc7cf5e830db1fd6e96d80bd02d6d3b4
CATEGORIES:VIF
CREATED:20250416T205113
SUMMARY:Spinnakerkurs
GEO:11.8527565;57.66030884
LOCATION:Hinsholmskilens båthamn - Hinsholmens Bryggväg 20\, Västra Frölunda\, \, 4
 26 79\, Sweden
URL;VALUE=URI:https://www.ifboat.se.hemsida.eu/kalender/icalrepeat.detail/2025/05/21/306/
 -/spinnakerkurs-geo-11-8527565-57-66030884?tmpl=component
DESCRIPTION:<div>Västkustens IF-båtklubb vill bjuda in till spinnakerkurs för att på bä
 sta sätt utveckla tankar och drömmar. Kursen riktar sig till alla de som är
  nyfikna på spinnaker, förstabåtsägare såväl som besättning och kappsegling
 sintresserade.<br /><br />Spinnakern är inte bara för fartdårar. Tvärtom är
  det ett utmärkt segel med ett brett register, lämpligt i många vindvinklar
  och -styrkor. Men eftersom spinnakern är ett s.k. flygande segel med många
  moment, så vill vi bidra med möjligheten att ge sig ut med någon erfaren.<
 br /><br />Kursen hålls på vattnet, helst på deltagarnas egna båtar. Vi går
  igenom båtens utrustning och spinnakerns form, funktion, trim och inställn
 ing under olika vindriktings- och -styrkeförhållanden. Tillsammans övar vi 
 hantering, dvs sättningar av spinnakern, gippar, och olika nedtagningar, sa
 mt båtens styrning.<br /><br />Anmäl intresse till Ingemar Ådahl &lt;<a hre
 f="mailto:ingemar.adahl@gmail.com" target="_blank"></a><joomla-hidden-mail 
  is-link="1" is-email="1" first="aW5nZW1hci5hZGFobA==" last="Z21haWwuY29t" 
 text="aW5nZW1hci5hZGFobEBnbWFpbC5jb20=" base="" >Den här e-postadressen sky
 ddas mot spambots. Du måste tillåta JavaScript för att se den.</joomla-hidd
 en-mail>&gt;. Utöver vilka som vill delta vill vi även veta vilka båtar ni 
 har tillgång till, var de ligger och om de är förberedda för spinnakersegli
 ng.</div><div>&nbsp;</div><div>Vi utgår från Göteborg, men exakta detaljer 
 om hamn bestäms utifrån intresseanmälan. Om det finns tillräckligt intresse
  i övriga Västsverige packar vi gärna alla deltagare i ett fordon och komme
 r dit.<br /><br />Reservdagen kan nyttjas som ersättning om prognosen förut
 spår stökigt väder, men även kompletterande om intresset visar sig stort no
 g för att motivera två tillfällen.<br /><br />Arrangörerna är långvariga me
 dlemmar i förbundet och har både turseglat och deltagit på tävlingar i tota
 lt många tiotals år.</div> <a href="https://www.ifboat.se.hemsida.eu/kalend
 er/icalrepeat.detail/2025/05/21/306/-/spinnakerkurs-geo-11-8527565-57-66030
 884?tmpl=component">This event was imported from: https://www.ifboat.se.hem
 sida.eu/kalender/icalrepeat.detail/2025/05/21/306/-/spinnakerkurs-geo-11-85
 27565-57-66030884?tmpl=component</a>CONTACT:Ingemar Ådahl 0736-394825
DTSTAMP:20260420T030016
DTSTART;TZID=Europe/Stockholm;VALUE=DATE:20250521
DTEND;TZID=Europe/Stockholm;VALUE=DATE:20250522
SEQUENCE:0
TRANSP:OPAQUE
END:VEVENT
END:VCALENDAR