BEGIN:VCALENDAR
VERSION:2.0
PRODID:-//jEvents 2.0 for Joomla//EN
CALSCALE:GREGORIAN
METHOD:PUBLISH
BEGIN:VTIMEZONE
TZID:Europe/Stockholm
BEGIN:STANDARD
DTSTART:20241027T020000
RDATE:20250330T030000
TZOFFSETFROM:+0200
TZOFFSETTO:+0100
TZNAME:Europe/Stockholm CET
END:STANDARD
BEGIN:STANDARD
DTSTART:20251026T020000
RDATE:20260329T030000
TZOFFSETFROM:+0200
TZOFFSETTO:+0100
TZNAME:Europe/Stockholm CET
END:STANDARD
BEGIN:STANDARD
DTSTART:20261025T020000
RDATE:20270328T030000
TZOFFSETFROM:+0200
TZOFFSETTO:+0100
TZNAME:Europe/Stockholm CET
END:STANDARD
BEGIN:STANDARD
DTSTART:20271031T020000
RDATE:20280326T030000
TZOFFSETFROM:+0200
TZOFFSETTO:+0100
TZNAME:Europe/Stockholm CET
END:STANDARD
BEGIN:STANDARD
DTSTART:20281029T020000
RDATE:20290325T030000
TZOFFSETFROM:+0200
TZOFFSETTO:+0100
TZNAME:Europe/Stockholm CET
END:STANDARD
BEGIN:STANDARD
DTSTART:20291028T020000
RDATE:20300331T030000
TZOFFSETFROM:+0200
TZOFFSETTO:+0100
TZNAME:Europe/Stockholm CET
END:STANDARD
BEGIN:STANDARD
DTSTART:20301027T020000
RDATE:20310330T030000
TZOFFSETFROM:+0200
TZOFFSETTO:+0100
TZNAME:Europe/Stockholm CET
END:STANDARD
BEGIN:DAYLIGHT
DTSTART:20240407T181500
RDATE:20241027T020000
TZOFFSETFROM:+0100
TZOFFSETTO:+0200
TZNAME:Europe/Stockholm CEST
END:DAYLIGHT
BEGIN:DAYLIGHT
DTSTART:20250330T030000
RDATE:20251026T020000
TZOFFSETFROM:+0100
TZOFFSETTO:+0200
TZNAME:Europe/Stockholm CEST
END:DAYLIGHT
BEGIN:DAYLIGHT
DTSTART:20260329T030000
RDATE:20261025T020000
TZOFFSETFROM:+0100
TZOFFSETTO:+0200
TZNAME:Europe/Stockholm CEST
END:DAYLIGHT
BEGIN:DAYLIGHT
DTSTART:20270328T030000
RDATE:20271031T020000
TZOFFSETFROM:+0100
TZOFFSETTO:+0200
TZNAME:Europe/Stockholm CEST
END:DAYLIGHT
BEGIN:DAYLIGHT
DTSTART:20280326T030000
RDATE:20281029T020000
TZOFFSETFROM:+0100
TZOFFSETTO:+0200
TZNAME:Europe/Stockholm CEST
END:DAYLIGHT
BEGIN:DAYLIGHT
DTSTART:20290325T030000
RDATE:20291028T020000
TZOFFSETFROM:+0100
TZOFFSETTO:+0200
TZNAME:Europe/Stockholm CEST
END:DAYLIGHT
BEGIN:DAYLIGHT
DTSTART:20300331T030000
RDATE:20301027T020000
TZOFFSETFROM:+0100
TZOFFSETTO:+0200
TZNAME:Europe/Stockholm CEST
END:DAYLIGHT
END:VTIMEZONE
BEGIN:VEVENT
UID:11c0ed80808a26c0260c1502fcefcd6a
CATEGORIES:VIF
CREATED:20250323T192232
SUMMARY:Regelkväll VIF
GEO:11.85075951;57.67098999
LOCATION:Långedrags Segelsällskap - Solhöjdsgatan 16\, Västra Frölunda\, \, 426 76\,
  Sweden
URL;VALUE=URI:https://www.ifboat.se.hemsida.eu/kalender/icalrepeat.detail/2025/04/08/303/
 -/regelkvaell-vif-geo-11-85075951-57-67098999?tmpl=component
DESCRIPTION:Nu närmar sig våren och sommaren, sakta men säkert!Snärt är vi igång igen m
 ed våra kappseglingar, både entyp (Långedrag, regattor, SM) och SRS.Och vad
  passar då bättre än att förbereda sig med en lättsam genomgång av kappsegl
 ingsreglerna? Charlotte Greppe, internationell domare och ledamot av SSF:s 
 Regelkommitté kommer att leda oss genom regelboken med förtydligande exempe
 l. Så klart finns det möjlighet för frågor och diskussion. I år är det extr
 a viktigt eftersom Kappseglingsreglerna har kommit ut i sin nya version, KS
 R 2025 – 2028. Vi planerar att ha ett antal regelböcker till salu för VIF:s
  medlemmar denna kväll. Anmäl dig tidigt och säg om du vill köpa regelboken
 . Först till kvarn…. Se bifogad inbjudan för mer information om plats och a
 nmälan. Tyvärr kommer vi inte att kunna erbjuda online deltagande. Välkomna
 ! This event was imported from: https://www.ifboat.se.hemsida.eu/kalender/i
 calrepeat.detail/2025/04/08/303/-/regelkvaell-vif-geo-11-85075951-57-670989
 99?tmpl=component
X-ALT-DESC;FMTTYPE=text/html:<div>Nu närmar sig våren och sommaren, sakta men säkert!</div><div>Snärt är
  vi igång igen med våra kappseglingar, både entyp (Långedrag, regattor, SM)
  och SRS.</div><div>Och vad passar då bättre än att förbereda sig med en lä
 ttsam genomgång av kappseglingsreglerna?</div><div>&nbsp;</div><div>Charlot
 te Greppe, internationell domare och ledamot av SSF:s Regelkommitté kommer 
 att leda oss genom regelboken med förtydligande exempel. Så klart finns det
  möjlighet för frågor och diskussion. I år är det extra viktigt eftersom Ka
 ppseglingsreglerna har kommit ut i sin nya version, KSR 2025 – 2028.</div><
 div>&nbsp;</div><div>Vi planerar att ha ett antal regelböcker till salu för
  VIF:s medlemmar denna kväll. Anmäl dig tidigt och säg om du vill köpa rege
 lboken. Först till kvarn….</div><div>&nbsp;</div><div><span style="text-dec
 oration: underline;">Se bifogad inbjudan för mer information om&nbsp;plats&
 nbsp;och&nbsp;anmälan.</span></div><div>&nbsp;</div><div>Tyvärr kommer vi i
 nte att kunna erbjuda online deltagande.</div><div>&nbsp;</div><div>Välkomn
 a!</div> <a href="https://www.ifboat.se.hemsida.eu/kalender/icalrepeat.deta
 il/2025/04/08/303/-/regelkvaell-vif-geo-11-85075951-57-67098999?tmpl=compon
 ent">This event was imported from: https://www.ifboat.se.hemsida.eu/kalende
 r/icalrepeat.detail/2025/04/08/303/-/regelkvaell-vif-geo-11-85075951-57-670
 98999?tmpl=component</a>CONTACT:Göran Ejdeling
DTSTAMP:20260420T030732
DTSTART;TZID=Europe/Stockholm:20250408T181500
SEQUENCE:0
TRANSP:OPAQUE
END:VEVENT
END:VCALENDAR