BEGIN:VCALENDAR
VERSION:2.0
PRODID:-//jEvents 2.0 for Joomla//EN
CALSCALE:GREGORIAN
METHOD:PUBLISH
BEGIN:VTIMEZONE
TZID:Europe/Stockholm
BEGIN:STANDARD
DTSTART:20240323T193000
RDATE:20240331T030000
TZOFFSETFROM:+0200
TZOFFSETTO:+0100
TZNAME:Europe/Stockholm CET
END:STANDARD
BEGIN:STANDARD
DTSTART:20241027T020000
RDATE:20250330T030000
TZOFFSETFROM:+0200
TZOFFSETTO:+0100
TZNAME:Europe/Stockholm CET
END:STANDARD
BEGIN:STANDARD
DTSTART:20251026T020000
RDATE:20260329T030000
TZOFFSETFROM:+0200
TZOFFSETTO:+0100
TZNAME:Europe/Stockholm CET
END:STANDARD
BEGIN:STANDARD
DTSTART:20261025T020000
RDATE:20270328T030000
TZOFFSETFROM:+0200
TZOFFSETTO:+0100
TZNAME:Europe/Stockholm CET
END:STANDARD
BEGIN:STANDARD
DTSTART:20271031T020000
RDATE:20280326T030000
TZOFFSETFROM:+0200
TZOFFSETTO:+0100
TZNAME:Europe/Stockholm CET
END:STANDARD
BEGIN:STANDARD
DTSTART:20281029T020000
RDATE:20290325T030000
TZOFFSETFROM:+0200
TZOFFSETTO:+0100
TZNAME:Europe/Stockholm CET
END:STANDARD
BEGIN:STANDARD
DTSTART:20291028T020000
RDATE:20300331T030000
TZOFFSETFROM:+0200
TZOFFSETTO:+0100
TZNAME:Europe/Stockholm CET
END:STANDARD
BEGIN:STANDARD
DTSTART:20301027T020000
RDATE:20310330T030000
TZOFFSETFROM:+0200
TZOFFSETTO:+0100
TZNAME:Europe/Stockholm CET
END:STANDARD
BEGIN:DAYLIGHT
DTSTART:20240331T030000
RDATE:20241027T020000
TZOFFSETFROM:+0100
TZOFFSETTO:+0200
TZNAME:Europe/Stockholm CEST
END:DAYLIGHT
BEGIN:DAYLIGHT
DTSTART:20250330T030000
RDATE:20251026T020000
TZOFFSETFROM:+0100
TZOFFSETTO:+0200
TZNAME:Europe/Stockholm CEST
END:DAYLIGHT
BEGIN:DAYLIGHT
DTSTART:20260329T030000
RDATE:20261025T020000
TZOFFSETFROM:+0100
TZOFFSETTO:+0200
TZNAME:Europe/Stockholm CEST
END:DAYLIGHT
BEGIN:DAYLIGHT
DTSTART:20270328T030000
RDATE:20271031T020000
TZOFFSETFROM:+0100
TZOFFSETTO:+0200
TZNAME:Europe/Stockholm CEST
END:DAYLIGHT
BEGIN:DAYLIGHT
DTSTART:20280326T030000
RDATE:20281029T020000
TZOFFSETFROM:+0100
TZOFFSETTO:+0200
TZNAME:Europe/Stockholm CEST
END:DAYLIGHT
BEGIN:DAYLIGHT
DTSTART:20290325T030000
RDATE:20291028T020000
TZOFFSETFROM:+0100
TZOFFSETTO:+0200
TZNAME:Europe/Stockholm CEST
END:DAYLIGHT
BEGIN:DAYLIGHT
DTSTART:20300331T030000
RDATE:20301027T020000
TZOFFSETFROM:+0100
TZOFFSETTO:+0200
TZNAME:Europe/Stockholm CEST
END:DAYLIGHT
END:VTIMEZONE
BEGIN:VEVENT
UID:040dd28afde1eab93ebb70543fb30407
CATEGORIES:IF-båtförbundet
CREATED:20250309T155459
SUMMARY:Årsmöte SIF 2025
URL;VALUE=URI:https://www.ifboat.se.hemsida.eu/kalender/icalrepeat.detail/2025/03/24/300/
 -/arsmoete-sif-2025?tmpl=component
DESCRIPTION:<p>Välkommen till Svenska IF-Båtförbundets årsmöte 2025, måndag 24 mars kl.
  19:30.</p><p>Mötet kommer att vara online via Zoom, se länken till mötet n
 edan. Det brukar fungera bra att använda web-browsern för Zoom-mötet, man b
 ehöver inte ladda ner Zoom-appen.</p><p>Medvind nr.1 med bland annat mötesh
 andlingarna finns bifogad som pdf-fil. Här finns också en röstsedel med ins
 truktioner för de som inte kan delta på mötet.</p><p>Hoppas vi möts online 
 den 24e!<br />Styrelsen SIF;</p><p>Karin Hårding, <br />Fredrik Wigelius,<b
 r />Ingemar Ådahl,<br />Linda Cederquist,<br />Joop Somhorst.</p><p>&nbsp;<
 /p> <a href="https://www.ifboat.se.hemsida.eu/kalender/icalrepeat.detail/20
 25/03/24/300/-/arsmoete-sif-2025?tmpl=component">This event was imported fr
 om: https://www.ifboat.se.hemsida.eu/kalender/icalrepeat.detail/2025/03/24/
 300/-/arsmoete-sif-2025?tmpl=component</a>CONTACT:Joop Somhorst
X-EXTRAINFO:Joop Somhorst\nDen här e-postadressen skyddas mot spambots. Du måste tillåt
 a JavaScript för att se den.\n073-902 8110
DTSTAMP:20260420T031005
DTSTART;TZID=Europe/Stockholm:20250324T193000
DTEND;TZID=Europe/Stockholm:20250324T203000
SEQUENCE:0
TRANSP:OPAQUE
END:VEVENT
END:VCALENDAR