BEGIN:VCALENDAR
VERSION:2.0
PRODID:-//jEvents 2.0 for Joomla//EN
CALSCALE:GREGORIAN
METHOD:PUBLISH
BEGIN:VTIMEZONE
TZID:Europe/Stockholm
BEGIN:STANDARD
DTSTART:20240317T180000
RDATE:20240331T030000
TZOFFSETFROM:+0200
TZOFFSETTO:+0100
TZNAME:Europe/Stockholm CET
END:STANDARD
BEGIN:STANDARD
DTSTART:20241027T020000
RDATE:20250330T030000
TZOFFSETFROM:+0200
TZOFFSETTO:+0100
TZNAME:Europe/Stockholm CET
END:STANDARD
BEGIN:STANDARD
DTSTART:20251026T020000
RDATE:20260329T030000
TZOFFSETFROM:+0200
TZOFFSETTO:+0100
TZNAME:Europe/Stockholm CET
END:STANDARD
BEGIN:STANDARD
DTSTART:20261025T020000
RDATE:20270328T030000
TZOFFSETFROM:+0200
TZOFFSETTO:+0100
TZNAME:Europe/Stockholm CET
END:STANDARD
BEGIN:STANDARD
DTSTART:20271031T020000
RDATE:20280326T030000
TZOFFSETFROM:+0200
TZOFFSETTO:+0100
TZNAME:Europe/Stockholm CET
END:STANDARD
BEGIN:STANDARD
DTSTART:20281029T020000
RDATE:20290325T030000
TZOFFSETFROM:+0200
TZOFFSETTO:+0100
TZNAME:Europe/Stockholm CET
END:STANDARD
BEGIN:STANDARD
DTSTART:20291028T020000
RDATE:20300331T030000
TZOFFSETFROM:+0200
TZOFFSETTO:+0100
TZNAME:Europe/Stockholm CET
END:STANDARD
BEGIN:STANDARD
DTSTART:20301027T020000
RDATE:20310330T030000
TZOFFSETFROM:+0200
TZOFFSETTO:+0100
TZNAME:Europe/Stockholm CET
END:STANDARD
BEGIN:DAYLIGHT
DTSTART:20240331T030000
RDATE:20241027T020000
TZOFFSETFROM:+0100
TZOFFSETTO:+0200
TZNAME:Europe/Stockholm CEST
END:DAYLIGHT
BEGIN:DAYLIGHT
DTSTART:20250330T030000
RDATE:20251026T020000
TZOFFSETFROM:+0100
TZOFFSETTO:+0200
TZNAME:Europe/Stockholm CEST
END:DAYLIGHT
BEGIN:DAYLIGHT
DTSTART:20260329T030000
RDATE:20261025T020000
TZOFFSETFROM:+0100
TZOFFSETTO:+0200
TZNAME:Europe/Stockholm CEST
END:DAYLIGHT
BEGIN:DAYLIGHT
DTSTART:20270328T030000
RDATE:20271031T020000
TZOFFSETFROM:+0100
TZOFFSETTO:+0200
TZNAME:Europe/Stockholm CEST
END:DAYLIGHT
BEGIN:DAYLIGHT
DTSTART:20280326T030000
RDATE:20281029T020000
TZOFFSETFROM:+0100
TZOFFSETTO:+0200
TZNAME:Europe/Stockholm CEST
END:DAYLIGHT
BEGIN:DAYLIGHT
DTSTART:20290325T030000
RDATE:20291028T020000
TZOFFSETFROM:+0100
TZOFFSETTO:+0200
TZNAME:Europe/Stockholm CEST
END:DAYLIGHT
BEGIN:DAYLIGHT
DTSTART:20300331T030000
RDATE:20301027T020000
TZOFFSETFROM:+0100
TZOFFSETTO:+0200
TZNAME:Europe/Stockholm CEST
END:DAYLIGHT
END:VTIMEZONE
BEGIN:VEVENT
UID:693da3b3788142f9c9653f9f857c30e1
CATEGORIES:VIF
CREATED:20250303T211709
SUMMARY:Årsmöte VIF 2025
GEO:11.93469334;57.69969559
LOCATION:Skeppet Göteborg - Amerikagatan 2\, Göteborg\, Västra Götaland\, 41463\, 
URL;VALUE=URI:https://www.ifboat.se.hemsida.eu/kalender/icalrepeat.detail/2025/03/18/298/
 -/arsmoete-vif-2025-geo-11-93469334-57-69969559?tmpl=component
DESCRIPTION:Bästa IF-båtseglare!Nu är det dags att börja tänka på segling igen – och at
 t ses!\nVi inleder kvällen med ett kort årsmöte där vi reflekterar över den
  gångna säsongen, väljer ny styrelse och går igenom årets planerade aktivit
 eter.\nDärefter får vi lyssna till Peter Berg, som berättar om IF-båten Gle
 nn och dess förvandling från gårdsprydnad till vass kappseglare. Tillsamman
 s med Joop Somhorst kommer han även att prata om mastbalkens skick – hur ma
 n inspekterar den och genomför en renovering. Självklart finns det också ut
 rymme för era frågor och funderingar.\nMer information om plats, tid, dagor
 dning och anmälan hittar ni i den bifogade inbjudan. Där finns även länken 
 för att delta online.\nVarmt välkomna!\nStyrelsen för Västkustens IF-båtklu
 bb,\n\nJoop Somhorst.\n\ntel. 073-902 8110 This event was imported from: ht
 tps://www.ifboat.se.hemsida.eu/kalender/icalrepeat.detail/2025/03/18/298/-/
 arsmoete-vif-2025-geo-11-93469334-57-69969559?tmpl=component
X-ALT-DESC;FMTTYPE=text/html:<div><strong data-start="99" data-end="123">Bästa IF-båtseglare!</strong></
 div><div><p data-start="127" data-end="190">Nu är det dags att börja tänka 
 på segling igen – och att ses!</p><p data-start="192" data-end="341">Vi inl
 eder kvällen med ett kort årsmöte där vi reflekterar över den gångna säsong
 en, väljer ny styrelse och går igenom årets planerade aktiviteter.</p><p da
 ta-start="343" data-end="677">Därefter får vi lyssna till Peter Berg, som b
 erättar om IF-båten&nbsp;<em data-start="408" data-end="415">Glenn</em>&nbs
 p;och dess förvandling från gårdsprydnad till vass kappseglare. Tillsammans
  med Joop Somhorst kommer han även att prata om mastbalkens skick – hur man
  inspekterar den och genomför en renovering. Självklart finns det också utr
 ymme för era frågor och funderingar.</p><p data-start="679" data-end="813">
 Mer information om plats, tid, dagordning och anmälan hittar ni i den bifog
 ade inbjudan. Där finns även länken för att delta online.</p><p data-start=
 "815" data-end="836"><strong data-start="815" data-end="834">Varmt välkomna
 !</strong></p>Styrelsen för Västkustens IF-båtklubb,<br /><br />Joop Somhor
 st.<br /><br />tel. 073-902 8110</div> <a href="https://www.ifboat.se.hemsi
 da.eu/kalender/icalrepeat.detail/2025/03/18/298/-/arsmoete-vif-2025-geo-11-
 93469334-57-69969559?tmpl=component">This event was imported from: https://
 www.ifboat.se.hemsida.eu/kalender/icalrepeat.detail/2025/03/18/298/-/arsmoe
 te-vif-2025-geo-11-93469334-57-69969559?tmpl=component</a>CONTACT:Joop Somhorst
DTSTAMP:20260420T031740
DTSTART;TZID=Europe/Stockholm:20250318T180000
DTEND;TZID=Europe/Stockholm:20250318T200000
SEQUENCE:0
TRANSP:OPAQUE
END:VEVENT
END:VCALENDAR