BEGIN:VCALENDAR
VERSION:2.0
PRODID:-//jEvents 2.0 for Joomla//EN
CALSCALE:GREGORIAN
METHOD:PUBLISH
BEGIN:VTIMEZONE
TZID:Europe/Stockholm
BEGIN:STANDARD
DTSTART:20241027T020000
RDATE:20250330T030000
TZOFFSETFROM:+0200
TZOFFSETTO:+0100
TZNAME:Europe/Stockholm CET
END:STANDARD
BEGIN:STANDARD
DTSTART:20251026T020000
RDATE:20260329T030000
TZOFFSETFROM:+0200
TZOFFSETTO:+0100
TZNAME:Europe/Stockholm CET
END:STANDARD
BEGIN:STANDARD
DTSTART:20261025T020000
RDATE:20270328T030000
TZOFFSETFROM:+0200
TZOFFSETTO:+0100
TZNAME:Europe/Stockholm CET
END:STANDARD
BEGIN:STANDARD
DTSTART:20271031T020000
RDATE:20280326T030000
TZOFFSETFROM:+0200
TZOFFSETTO:+0100
TZNAME:Europe/Stockholm CET
END:STANDARD
BEGIN:STANDARD
DTSTART:20281029T020000
RDATE:20290325T030000
TZOFFSETFROM:+0200
TZOFFSETTO:+0100
TZNAME:Europe/Stockholm CET
END:STANDARD
BEGIN:STANDARD
DTSTART:20291028T020000
RDATE:20300331T030000
TZOFFSETFROM:+0200
TZOFFSETTO:+0100
TZNAME:Europe/Stockholm CET
END:STANDARD
BEGIN:STANDARD
DTSTART:20301027T020000
RDATE:20310330T030000
TZOFFSETFROM:+0200
TZOFFSETTO:+0100
TZNAME:Europe/Stockholm CET
END:STANDARD
BEGIN:DAYLIGHT
DTSTART:20240509T080000
RDATE:20241027T020000
TZOFFSETFROM:+0100
TZOFFSETTO:+0200
TZNAME:Europe/Stockholm CEST
END:DAYLIGHT
BEGIN:DAYLIGHT
DTSTART:20250330T030000
RDATE:20251026T020000
TZOFFSETFROM:+0100
TZOFFSETTO:+0200
TZNAME:Europe/Stockholm CEST
END:DAYLIGHT
BEGIN:DAYLIGHT
DTSTART:20260329T030000
RDATE:20261025T020000
TZOFFSETFROM:+0100
TZOFFSETTO:+0200
TZNAME:Europe/Stockholm CEST
END:DAYLIGHT
BEGIN:DAYLIGHT
DTSTART:20270328T030000
RDATE:20271031T020000
TZOFFSETFROM:+0100
TZOFFSETTO:+0200
TZNAME:Europe/Stockholm CEST
END:DAYLIGHT
BEGIN:DAYLIGHT
DTSTART:20280326T030000
RDATE:20281029T020000
TZOFFSETFROM:+0100
TZOFFSETTO:+0200
TZNAME:Europe/Stockholm CEST
END:DAYLIGHT
BEGIN:DAYLIGHT
DTSTART:20290325T030000
RDATE:20291028T020000
TZOFFSETFROM:+0100
TZOFFSETTO:+0200
TZNAME:Europe/Stockholm CEST
END:DAYLIGHT
BEGIN:DAYLIGHT
DTSTART:20300331T030000
RDATE:20301027T020000
TZOFFSETFROM:+0100
TZOFFSETTO:+0200
TZNAME:Europe/Stockholm CEST
END:DAYLIGHT
END:VTIMEZONE
BEGIN:VEVENT
UID:87d7fc1ea9cf1d2fe79a1c42262f189b
CATEGORIES:OIF
CREATED:20250217T185331
SUMMARY:Lidingö Runt 2025
GEO:18.15641403;59.34395599
LOCATION:Lidingö Segelsällskap - Periskopvägen\, Lidingö\, \, 181 41\, Sweden
URL;VALUE=URI:https://www.ifboat.se.hemsida.eu/kalender/icalrepeat.detail/2025/05/10/295/
 -/lidingoe-runt-2025-geo-18-15641403-59-34395599?tmpl=component
DESCRIPTION:Anmälan sker via Anmälan via Sailarena (https://www.sailarena.com/sv/se/clu
 b/lss/lidingo-runt-2025/)\nLidingö Runt 2025 tar paus detta år för att utvä
 rdera tävlingsformen.\nTräningstävling sker den 10 maj, där seglarna kan vä
 lja sin egen starttid men måste segla banan just den dagen.\n This event wa
 s imported from: https://www.ifboat.se.hemsida.eu/kalender/icalrepeat.detai
 l/2025/05/10/295/-/lidingoe-runt-2025-geo-18-15641403-59-34395599?tmpl=comp
 onent
X-ALT-DESC;FMTTYPE=text/html:<p>Anmälan sker via&nbsp;<a href="https://www.sailarena.com/sv/se/club/lss/
 lidingo-runt-2025/" target="_blank" rel="noopener">Anmälan via Sailarena</a
 ></p><p>Lidingö Runt 2025 tar paus detta år för att utvärdera tävlingsforme
 n.</p><p>Träningstävling sker den 10 maj, där seglarna kan välja sin egen s
 tarttid men måste segla banan just den dagen.</p> <a href="https://www.ifbo
 at.se.hemsida.eu/kalender/icalrepeat.detail/2025/05/10/295/-/lidingoe-runt-
 2025-geo-18-15641403-59-34395599?tmpl=component">This event was imported fr
 om: https://www.ifboat.se.hemsida.eu/kalender/icalrepeat.detail/2025/05/10/
 295/-/lidingoe-runt-2025-geo-18-15641403-59-34395599?tmpl=component</a>DTSTAMP:20260420T030650
DTSTART;TZID=Europe/Stockholm:20250510T080000
DTEND;TZID=Europe/Stockholm:20250510T170000
SEQUENCE:0
TRANSP:OPAQUE
END:VEVENT
END:VCALENDAR