BEGIN:VCALENDAR
VERSION:2.0
PRODID:-//jEvents 2.0 for Joomla//EN
CALSCALE:GREGORIAN
METHOD:PUBLISH
BEGIN:VTIMEZONE
TZID:Europe/Stockholm
BEGIN:STANDARD
DTSTART:20241027T020000
RDATE:20250330T030000
TZOFFSETFROM:+0200
TZOFFSETTO:+0100
TZNAME:Europe/Stockholm CET
END:STANDARD
BEGIN:STANDARD
DTSTART:20251026T020000
RDATE:20260329T030000
TZOFFSETFROM:+0200
TZOFFSETTO:+0100
TZNAME:Europe/Stockholm CET
END:STANDARD
BEGIN:STANDARD
DTSTART:20261025T020000
RDATE:20270328T030000
TZOFFSETFROM:+0200
TZOFFSETTO:+0100
TZNAME:Europe/Stockholm CET
END:STANDARD
BEGIN:STANDARD
DTSTART:20271031T020000
RDATE:20280326T030000
TZOFFSETFROM:+0200
TZOFFSETTO:+0100
TZNAME:Europe/Stockholm CET
END:STANDARD
BEGIN:STANDARD
DTSTART:20281029T020000
RDATE:20290325T030000
TZOFFSETFROM:+0200
TZOFFSETTO:+0100
TZNAME:Europe/Stockholm CET
END:STANDARD
BEGIN:STANDARD
DTSTART:20291028T020000
RDATE:20300331T030000
TZOFFSETFROM:+0200
TZOFFSETTO:+0100
TZNAME:Europe/Stockholm CET
END:STANDARD
BEGIN:STANDARD
DTSTART:20301027T020000
RDATE:20310330T030000
TZOFFSETFROM:+0200
TZOFFSETTO:+0100
TZNAME:Europe/Stockholm CET
END:STANDARD
BEGIN:DAYLIGHT
DTSTART:20240528T080000
RDATE:20241027T020000
TZOFFSETFROM:+0100
TZOFFSETTO:+0200
TZNAME:Europe/Stockholm CEST
END:DAYLIGHT
BEGIN:DAYLIGHT
DTSTART:20250330T030000
RDATE:20251026T020000
TZOFFSETFROM:+0100
TZOFFSETTO:+0200
TZNAME:Europe/Stockholm CEST
END:DAYLIGHT
BEGIN:DAYLIGHT
DTSTART:20260329T030000
RDATE:20261025T020000
TZOFFSETFROM:+0100
TZOFFSETTO:+0200
TZNAME:Europe/Stockholm CEST
END:DAYLIGHT
BEGIN:DAYLIGHT
DTSTART:20270328T030000
RDATE:20271031T020000
TZOFFSETFROM:+0100
TZOFFSETTO:+0200
TZNAME:Europe/Stockholm CEST
END:DAYLIGHT
BEGIN:DAYLIGHT
DTSTART:20280326T030000
RDATE:20281029T020000
TZOFFSETFROM:+0100
TZOFFSETTO:+0200
TZNAME:Europe/Stockholm CEST
END:DAYLIGHT
BEGIN:DAYLIGHT
DTSTART:20290325T030000
RDATE:20291028T020000
TZOFFSETFROM:+0100
TZOFFSETTO:+0200
TZNAME:Europe/Stockholm CEST
END:DAYLIGHT
BEGIN:DAYLIGHT
DTSTART:20300331T030000
RDATE:20301027T020000
TZOFFSETFROM:+0100
TZOFFSETTO:+0200
TZNAME:Europe/Stockholm CEST
END:DAYLIGHT
END:VTIMEZONE
BEGIN:VEVENT
UID:982c029db406926c1bbe141f39b91b05
CATEGORIES:OIF
CREATED:20250217T183823
SUMMARY:Gullviverallyt
URL;VALUE=URI:https://www.ifboat.se.hemsida.eu/kalender/icalrepeat.detail/2025/05/29/294/
 -/gullviverallyt?tmpl=component
DESCRIPTION:För 48:e året går den familjevänliga succén Gullviverallyt, en eskaderkapps
 egling i fyra dagar under Kristi Himmelfärdshelgen, av stapeln. I år sker d
 etta mellan den 29 maj - 1 juni.\nUnder 4 dagar seglar vi en distanssegling
  genom Stckholms skärgård. \nVäl i hamn ändras atmosfären från tävling till
  en härlig sammanhållning bland båtarna med mycket eftersnack och bortförkl
 aringar. Varje kväll är det prisutdelning både för kappseglingen och för ba
 rnens egen frågetävling under dagarna. Kvällarna brukar fortsätta med trevl
 ig gemensam samvaro och tipspromenader, lördagens räkfest är pricken över i
 :et.\n\n\nAnmälan sker via Gullviverallyts hemsida (https://gullviverallyt.
 se/) och anmälan öppnar 18 februari kl 06:30:00.\n This event was imported 
 from: https://www.ifboat.se.hemsida.eu/kalender/icalrepeat.detail/2025/05/2
 9/294/-/gullviverallyt?tmpl=component (https://www.ifboat.se.hemsida.eu/kal
 ender/icalrepeat.detail/2025/05/29/294/-/gullviverallyt?tmpl=component)
X-ALT-DESC;FMTTYPE=text/html:<p>För 48:e året går den familjevänliga succén Gullviverallyt, en eskaderka
 ppsegling i fyra dagar under Kristi Himmelfärdshelgen, av stapeln. I år ske
 r detta mellan den 29 maj - 1 juni.</p><p>Under 4 dagar seglar vi en distan
 ssegling genom Stckholms skärgård.&nbsp;</p><p class="mobile-undersized-upp
 er">Väl i hamn ändras atmosfären från tävling till en härlig sammanhållning
  bland båtarna med mycket eftersnack och bortförklaringar. Varje kväll är d
 et prisutdelning både för kappseglingen och för barnens egen frågetävling u
 nder dagarna. Kvällarna brukar fortsätta med trevlig gemensam samvaro och t
 ipspromenader, lördagens räkfest är pricken över i:et.<br /><br /></p><p>An
 mälan sker via&nbsp;<a href="https://gullviverallyt.se/" target="_blank" re
 l="noopener">Gullviverallyts hemsida</a>&nbsp;och anmälan öppnar&nbsp;18 fe
 bruari kl 06:30:00.</p> <a href="https://www.ifboat.se.hemsida.eu/kalender/
 icalrepeat.detail/2025/05/29/294/-/gullviverallyt?tmpl=component">This even
 t was imported from: https://www.ifboat.se.hemsida.eu/kalender/icalrepeat.d
 etail/2025/05/29/294/-/gullviverallyt?tmpl=component</a>DTSTAMP:20260420T025747
DTSTART;TZID=Europe/Stockholm:20250529T080000
DTEND;TZID=Europe/Stockholm:20250601T170000
SEQUENCE:0
TRANSP:OPAQUE
END:VEVENT
END:VCALENDAR