BEGIN:VCALENDAR
VERSION:2.0
PRODID:-//jEvents 2.0 for Joomla//EN
CALSCALE:GREGORIAN
METHOD:PUBLISH
BEGIN:VTIMEZONE
TZID:Europe/Stockholm
BEGIN:STANDARD
DTSTART:20240318T183000
RDATE:20240331T030000
TZOFFSETFROM:+0200
TZOFFSETTO:+0100
TZNAME:Europe/Stockholm CET
END:STANDARD
BEGIN:STANDARD
DTSTART:20241027T020000
RDATE:20250330T030000
TZOFFSETFROM:+0200
TZOFFSETTO:+0100
TZNAME:Europe/Stockholm CET
END:STANDARD
BEGIN:STANDARD
DTSTART:20251026T020000
RDATE:20260329T030000
TZOFFSETFROM:+0200
TZOFFSETTO:+0100
TZNAME:Europe/Stockholm CET
END:STANDARD
BEGIN:STANDARD
DTSTART:20261025T020000
RDATE:20270328T030000
TZOFFSETFROM:+0200
TZOFFSETTO:+0100
TZNAME:Europe/Stockholm CET
END:STANDARD
BEGIN:STANDARD
DTSTART:20271031T020000
RDATE:20280326T030000
TZOFFSETFROM:+0200
TZOFFSETTO:+0100
TZNAME:Europe/Stockholm CET
END:STANDARD
BEGIN:STANDARD
DTSTART:20281029T020000
RDATE:20290325T030000
TZOFFSETFROM:+0200
TZOFFSETTO:+0100
TZNAME:Europe/Stockholm CET
END:STANDARD
BEGIN:STANDARD
DTSTART:20291028T020000
RDATE:20300331T030000
TZOFFSETFROM:+0200
TZOFFSETTO:+0100
TZNAME:Europe/Stockholm CET
END:STANDARD
BEGIN:STANDARD
DTSTART:20301027T020000
RDATE:20310330T030000
TZOFFSETFROM:+0200
TZOFFSETTO:+0100
TZNAME:Europe/Stockholm CET
END:STANDARD
BEGIN:DAYLIGHT
DTSTART:20240331T030000
RDATE:20241027T020000
TZOFFSETFROM:+0100
TZOFFSETTO:+0200
TZNAME:Europe/Stockholm CEST
END:DAYLIGHT
BEGIN:DAYLIGHT
DTSTART:20250330T030000
RDATE:20251026T020000
TZOFFSETFROM:+0100
TZOFFSETTO:+0200
TZNAME:Europe/Stockholm CEST
END:DAYLIGHT
BEGIN:DAYLIGHT
DTSTART:20260329T030000
RDATE:20261025T020000
TZOFFSETFROM:+0100
TZOFFSETTO:+0200
TZNAME:Europe/Stockholm CEST
END:DAYLIGHT
BEGIN:DAYLIGHT
DTSTART:20270328T030000
RDATE:20271031T020000
TZOFFSETFROM:+0100
TZOFFSETTO:+0200
TZNAME:Europe/Stockholm CEST
END:DAYLIGHT
BEGIN:DAYLIGHT
DTSTART:20280326T030000
RDATE:20281029T020000
TZOFFSETFROM:+0100
TZOFFSETTO:+0200
TZNAME:Europe/Stockholm CEST
END:DAYLIGHT
BEGIN:DAYLIGHT
DTSTART:20290325T030000
RDATE:20291028T020000
TZOFFSETFROM:+0100
TZOFFSETTO:+0200
TZNAME:Europe/Stockholm CEST
END:DAYLIGHT
BEGIN:DAYLIGHT
DTSTART:20300331T030000
RDATE:20301027T020000
TZOFFSETFROM:+0100
TZOFFSETTO:+0200
TZNAME:Europe/Stockholm CEST
END:DAYLIGHT
END:VTIMEZONE
BEGIN:VEVENT
UID:20306cce18d96c0bcc28d1e72919310e
CATEGORIES:SSIF
CREATED:20250217T115556
SUMMARY:Årsmöte SSIF 2025
GEO:12.74606133;55.99478531
LOCATION:RHSS klubbhus Åkroken - Kajgatan\, Råå\, Skåne\, \, Sverige
URL;VALUE=URI:https://www.ifboat.se.hemsida.eu/kalender/icalrepeat.detail/2025/03/19/293/
 -/arsmoete-ssif-2025-geo-12-74606133-55-99478531?tmpl=component
DESCRIPTION:Välkommen till SSIFs årsmöte 2025!\nDagordning och möteshandlingar skickas 
 med mail till medlem 2025-03-03.\nRegistrera gärna ditt deltagande så under
 lättas mötesadministrationen.\n \n This event was imported from: https://ww
 w.ifboat.se.hemsida.eu/kalender/icalrepeat.detail/2025/03/19/293/-/arsmoete
 -ssif-2025-geo-12-74606133-55-99478531?tmpl=component
X-ALT-DESC;FMTTYPE=text/html:<p>Välkommen till SSIFs årsmöte 2025!</p><p>Dagordning och möteshandlingar 
 skickas med mail till medlem 2025-03-03.</p><p>Registrera gärna ditt deltag
 ande så underlättas mötesadministrationen.</p><p>&nbsp;</p> <a href="https:
 //www.ifboat.se.hemsida.eu/kalender/icalrepeat.detail/2025/03/19/293/-/arsm
 oete-ssif-2025-geo-12-74606133-55-99478531?tmpl=component">This event was i
 mported from: https://www.ifboat.se.hemsida.eu/kalender/icalrepeat.detail/2
 025/03/19/293/-/arsmoete-ssif-2025-geo-12-74606133-55-99478531?tmpl=compone
 nt</a>CONTACT:Johan Winberg, 0763979822
DTSTAMP:20260420T031740
DTSTART;TZID=Europe/Stockholm:20250319T183000
DTEND;TZID=Europe/Stockholm:20250319T213000
SEQUENCE:0
TRANSP:OPAQUE
END:VEVENT
END:VCALENDAR