BEGIN:VCALENDAR
VERSION:2.0
PRODID:-//jEvents 2.0 for Joomla//EN
CALSCALE:GREGORIAN
METHOD:PUBLISH
BEGIN:VTIMEZONE
TZID:Europe/Stockholm
BEGIN:STANDARD
DTSTART:20240128T173000
RDATE:20240331T030000
TZOFFSETFROM:+0200
TZOFFSETTO:+0100
TZNAME:Europe/Stockholm CET
END:STANDARD
BEGIN:STANDARD
DTSTART:20241027T020000
RDATE:20250330T030000
TZOFFSETFROM:+0200
TZOFFSETTO:+0100
TZNAME:Europe/Stockholm CET
END:STANDARD
BEGIN:STANDARD
DTSTART:20251026T020000
RDATE:20260329T030000
TZOFFSETFROM:+0200
TZOFFSETTO:+0100
TZNAME:Europe/Stockholm CET
END:STANDARD
BEGIN:STANDARD
DTSTART:20261025T020000
RDATE:20270328T030000
TZOFFSETFROM:+0200
TZOFFSETTO:+0100
TZNAME:Europe/Stockholm CET
END:STANDARD
BEGIN:STANDARD
DTSTART:20271031T020000
RDATE:20280326T030000
TZOFFSETFROM:+0200
TZOFFSETTO:+0100
TZNAME:Europe/Stockholm CET
END:STANDARD
BEGIN:STANDARD
DTSTART:20281029T020000
RDATE:20290325T030000
TZOFFSETFROM:+0200
TZOFFSETTO:+0100
TZNAME:Europe/Stockholm CET
END:STANDARD
BEGIN:STANDARD
DTSTART:20291028T020000
RDATE:20300331T030000
TZOFFSETFROM:+0200
TZOFFSETTO:+0100
TZNAME:Europe/Stockholm CET
END:STANDARD
BEGIN:STANDARD
DTSTART:20301027T020000
RDATE:20310330T030000
TZOFFSETFROM:+0200
TZOFFSETTO:+0100
TZNAME:Europe/Stockholm CET
END:STANDARD
BEGIN:DAYLIGHT
DTSTART:20240331T030000
RDATE:20241027T020000
TZOFFSETFROM:+0100
TZOFFSETTO:+0200
TZNAME:Europe/Stockholm CEST
END:DAYLIGHT
BEGIN:DAYLIGHT
DTSTART:20250330T030000
RDATE:20251026T020000
TZOFFSETFROM:+0100
TZOFFSETTO:+0200
TZNAME:Europe/Stockholm CEST
END:DAYLIGHT
BEGIN:DAYLIGHT
DTSTART:20260329T030000
RDATE:20261025T020000
TZOFFSETFROM:+0100
TZOFFSETTO:+0200
TZNAME:Europe/Stockholm CEST
END:DAYLIGHT
BEGIN:DAYLIGHT
DTSTART:20270328T030000
RDATE:20271031T020000
TZOFFSETFROM:+0100
TZOFFSETTO:+0200
TZNAME:Europe/Stockholm CEST
END:DAYLIGHT
BEGIN:DAYLIGHT
DTSTART:20280326T030000
RDATE:20281029T020000
TZOFFSETFROM:+0100
TZOFFSETTO:+0200
TZNAME:Europe/Stockholm CEST
END:DAYLIGHT
BEGIN:DAYLIGHT
DTSTART:20290325T030000
RDATE:20291028T020000
TZOFFSETFROM:+0100
TZOFFSETTO:+0200
TZNAME:Europe/Stockholm CEST
END:DAYLIGHT
BEGIN:DAYLIGHT
DTSTART:20300331T030000
RDATE:20301027T020000
TZOFFSETFROM:+0100
TZOFFSETTO:+0200
TZNAME:Europe/Stockholm CEST
END:DAYLIGHT
END:VTIMEZONE
BEGIN:VEVENT
UID:1a7fdedc587374275cfb81cea12c24f6
CATEGORIES:VIF
CREATED:20250117T193222
SUMMARY:Pubkväll VIF
GEO:11.97820854;57.69805908
LOCATION:Ölstugan Tullen - Avenyn\, Göteborg\, \, \, 
URL;VALUE=URI:https://www.ifboat.se.hemsida.eu/kalender/icalrepeat.detail/2025/01/28/292/
 -/pubkvaell-vif-geo-11-97820854-57-69805908?tmpl=component
DESCRIPTION:<p>Kära IF-seglare!</p><p>God fortsättning!&nbsp;</p><p>I väntan på vårfixe
 t inbjuder IF-båtsförbundet en Pubkväll i Göteborg!</p><p>PLATS: Ölstugan T
 ullen Avenyn<br />TID: den 28 januari klockan 17.30</p><p>Vi kommer att tal
 a om båtfix, kappsegling, tursegling och om att kanske arrangera en eskader
 segling i sommar för oss som vill segla i sällskap med andra snygga båtar.&
 nbsp;</p><p>Tips: Bli medlem 2025 nu för bara 250 kronor, och stöd IF-båtfö
 rbundet och vårat fina FORUM med alla lösningar på varje problem man kan ha
  med en IF.&nbsp;<a href="medlem/bli-medlem"></a><a href="medlem/bli-medlem
 " target="_self">https://ifboat.se/medlem/bli-medlem</a>&nbsp;Förbundet är 
 till för alla som seglar IF-båt, eller bara älskar båten och är intresserad
 e. Dessutom får man som medlem den vackra tidningen Medvind tryckt på fint 
 papper i brevlådan.&nbsp;</p><p>Mvh, Styrelsen.</p> <a href="https://www.if
 boat.se.hemsida.eu/kalender/icalrepeat.detail/2025/01/28/292/-/pubkvaell-vi
 f-geo-11-97820854-57-69805908?tmpl=component">This event was imported from:
  https://www.ifboat.se.hemsida.eu/kalender/icalrepeat.detail/2025/01/28/292
 /-/pubkvaell-vif-geo-11-97820854-57-69805908?tmpl=component</a>
X-ALT-DESC;FMTTYPE=text/html:<p>Kära IF-seglare!</p><p>God fortsättning!&nbsp;</p><p>I väntan på vårfixe
 t inbjuder IF-båtsförbundet en Pubkväll i Göteborg!</p><p>PLATS: Ölstugan T
 ullen Avenyn<br />TID: den 28 januari klockan 17.30</p><p>Vi kommer att tal
 a om båtfix, kappsegling, tursegling och om att kanske arrangera en eskader
 segling i sommar för oss som vill segla i sällskap med andra snygga båtar.&
 nbsp;</p><p>Tips: Bli medlem 2025 nu för bara 250 kronor, och stöd IF-båtfö
 rbundet och vårat fina FORUM med alla lösningar på varje problem man kan ha
  med en IF.&nbsp;<a href="https://www.ifboat.se.hemsida.eu/medlem/bli-medle
 m"></a><a href="https://www.ifboat.se.hemsida.eu/medlem/bli-medlem" target=
 "_self">https://ifboat.se/medlem/bli-medlem</a>&nbsp;Förbundet är till för 
 alla som seglar IF-båt, eller bara älskar båten och är intresserade. Dessut
 om får man som medlem den vackra tidningen Medvind tryckt på fint papper i 
 brevlådan.&nbsp;</p><p>Mvh, Styrelsen.</p> <a href="https://www.ifboat.se.h
 emsida.eu/kalender/icalrepeat.detail/2025/01/28/292/-/pubkvaell-vif-geo-11-
 97820854-57-69805908?tmpl=component">This event was imported from: https://
 www.ifboat.se.hemsida.eu/kalender/icalrepeat.detail/2025/01/28/292/-/pubkva
 ell-vif-geo-11-97820854-57-69805908?tmpl=component</a>DTSTAMP:20260420T030016
DTSTART;TZID=Europe/Stockholm:20250128T173000
SEQUENCE:0
TRANSP:OPAQUE
END:VEVENT
END:VCALENDAR