BEGIN:VCALENDAR
VERSION:2.0
PRODID:-//jEvents 2.0 for Joomla//EN
CALSCALE:GREGORIAN
METHOD:PUBLISH
BEGIN:VTIMEZONE
TZID:Europe/Stockholm
BEGIN:STANDARD
DTSTART:20221030T020000
RDATE:20230326T030000
TZOFFSETFROM:+0200
TZOFFSETTO:+0100
TZNAME:Europe/Stockholm CET
END:STANDARD
BEGIN:STANDARD
DTSTART:20231029T020000
RDATE:20240331T030000
TZOFFSETFROM:+0200
TZOFFSETTO:+0100
TZNAME:Europe/Stockholm CET
END:STANDARD
BEGIN:STANDARD
DTSTART:20241027T020000
RDATE:20250330T030000
TZOFFSETFROM:+0200
TZOFFSETTO:+0100
TZNAME:Europe/Stockholm CET
END:STANDARD
BEGIN:STANDARD
DTSTART:20251026T020000
RDATE:20260329T030000
TZOFFSETFROM:+0200
TZOFFSETTO:+0100
TZNAME:Europe/Stockholm CET
END:STANDARD
BEGIN:STANDARD
DTSTART:20261025T020000
RDATE:20270328T030000
TZOFFSETFROM:+0200
TZOFFSETTO:+0100
TZNAME:Europe/Stockholm CET
END:STANDARD
BEGIN:STANDARD
DTSTART:20271031T020000
RDATE:20280326T030000
TZOFFSETFROM:+0200
TZOFFSETTO:+0100
TZNAME:Europe/Stockholm CET
END:STANDARD
BEGIN:STANDARD
DTSTART:20281029T020000
RDATE:20290325T030000
TZOFFSETFROM:+0200
TZOFFSETTO:+0100
TZNAME:Europe/Stockholm CET
END:STANDARD
BEGIN:STANDARD
DTSTART:20291028T020000
RDATE:20300331T030000
TZOFFSETFROM:+0200
TZOFFSETTO:+0100
TZNAME:Europe/Stockholm CET
END:STANDARD
BEGIN:STANDARD
DTSTART:20301027T020000
RDATE:20310330T030000
TZOFFSETFROM:+0200
TZOFFSETTO:+0100
TZNAME:Europe/Stockholm CET
END:STANDARD
BEGIN:DAYLIGHT
DTSTART:20220404T180000
RDATE:20221030T020000
TZOFFSETFROM:+0100
TZOFFSETTO:+0200
TZNAME:Europe/Stockholm CEST
END:DAYLIGHT
BEGIN:DAYLIGHT
DTSTART:20230326T030000
RDATE:20231029T020000
TZOFFSETFROM:+0100
TZOFFSETTO:+0200
TZNAME:Europe/Stockholm CEST
END:DAYLIGHT
BEGIN:DAYLIGHT
DTSTART:20240331T030000
RDATE:20241027T020000
TZOFFSETFROM:+0100
TZOFFSETTO:+0200
TZNAME:Europe/Stockholm CEST
END:DAYLIGHT
BEGIN:DAYLIGHT
DTSTART:20250330T030000
RDATE:20251026T020000
TZOFFSETFROM:+0100
TZOFFSETTO:+0200
TZNAME:Europe/Stockholm CEST
END:DAYLIGHT
BEGIN:DAYLIGHT
DTSTART:20260329T030000
RDATE:20261025T020000
TZOFFSETFROM:+0100
TZOFFSETTO:+0200
TZNAME:Europe/Stockholm CEST
END:DAYLIGHT
BEGIN:DAYLIGHT
DTSTART:20270328T030000
RDATE:20271031T020000
TZOFFSETFROM:+0100
TZOFFSETTO:+0200
TZNAME:Europe/Stockholm CEST
END:DAYLIGHT
BEGIN:DAYLIGHT
DTSTART:20280326T030000
RDATE:20281029T020000
TZOFFSETFROM:+0100
TZOFFSETTO:+0200
TZNAME:Europe/Stockholm CEST
END:DAYLIGHT
BEGIN:DAYLIGHT
DTSTART:20290325T030000
RDATE:20291028T020000
TZOFFSETFROM:+0100
TZOFFSETTO:+0200
TZNAME:Europe/Stockholm CEST
END:DAYLIGHT
BEGIN:DAYLIGHT
DTSTART:20300331T030000
RDATE:20301027T020000
TZOFFSETFROM:+0100
TZOFFSETTO:+0200
TZNAME:Europe/Stockholm CEST
END:DAYLIGHT
END:VTIMEZONE
BEGIN:VEVENT
UID:1947d35fec5e9b1e41a44b5f1b05c74a
CATEGORIES:VIF
CREATED:20230312T221842
SUMMARY:ÅRSMÖTE VIF 5 april
GEO:11.90953159;57.69150162
LOCATION:Porter Pelle - Adolf Edelsvärds gata 11\, \, \, \, Sweden
URL;VALUE=URI:https://www.ifboat.se.hemsida.eu/kalender/icalrepeat.detail/2023/04/05/263/
 -/arsmoete-vif-5-april-geo-11-90953159-57-69150162?tmpl=component
DESCRIPTION:Hej alla IF-båtsseglare ⯑ \n Nu är det dags att börja tänka på segling
  och att träffas igen!\nVi börjar säsongen med att samlas Onsdagen den 5 A
 pril 2023 klockan 18.00 i Vin-lokalen på Porter Pelle\nAdress: Adolf Edelsv
 ärds gata 11 nere vid Röda Sten\n \nVi inleder klockan 18.00 med årsmötesfö
 rhandlingar, se bifogad dagordning.\nVid 19 beställer vi mat och dryck för 
 den som vill och sedan fortsätter vi med genomgång/frågestund kring IF:s bå
 tens ”svaga” punkter, utrustnings- och trimtips.\nKom laddad med frågor, så
  får du säkert svar från erfarna IF-seglare!\nVi ser fram emot en trevlig o
 ch givande kväll med mat , dryck, diskussion och en fin upptakt som ger ins
 piration inför den stundande säsongen!\nAnmäl Dig NU eller senast fredagen 
 den 31/3;\nVi måste beställa maten innan, om man vill äta (Om vi blir fler 
 än 10 personer)\nSe länk  Restaurang med lunch nära Majorna – Porter Pelle 
 Klippan Göteborg (https://eur02.safelinks.protection.outlook.com/?url=https
 %3A%2F%2Fwww.porterpelle.se%2Fmat%2F&amp;data=05%7C01%7Colof.oj.johnsson%40
 volvocars.com%7Ca1fb7f80005742c927e908db233cc11d%7C81fa766ea34948678bf4ab35
 e250a08f%7C0%7C0%7C638142516450806204%7CUnknown%7CTWFpbGZsb3d8eyJWIjoiMC4wL
 jAwMDAiLCJQIjoiV2luMzIiLCJBTiI6Ik1haWwiLCJXVCI6Mn0%3D%7C3000%7C%7C%7C&amp;s
 data=0EnLeZ16azR%2FkHRTDi%2Boxt%2Bguj9Slwr6FnEjlHXkgh8%3D&amp;reserved=0) .
 \nAnmälan och eventuella frågor görs till:  (mailto:olof.oj.johnsson@volvoc
 ars.com)Den här e-postadressen skyddas mot spambots. Du måste tillåta JavaS
 cript för att se den.  eller SMS: 0708-20 00 90.\nFör att delta online på å
 rsmötet kan du klicka på denna länk och  Click here to join the meeting (ht
 tps://eur02.safelinks.protection.outlook.com/ap/t-59584e83/?url=https%3A%2F
 %2Fteams.microsoft.com%2Fl%2Fmeetup-join%2F19%253ameeting_NTI4NDc1ZWYtOGQwO
 C00OTQwLTk2OTctYWQxYWVlNDk2MWE5%2540thread.v2%2F0%3Fcontext%3D%257b%2522Tid
 %2522%253a%252281fa766e-a349-4867-8bf4-ab35e250a08f%2522%252c%2522Oid%2522%
 253a%252269dba7b2-26e4-4efa-9bd9-818f264a2549%2522%257d&amp;data=05%7C01%7C
 olof.oj.johnsson%40volvocars.com%7Ca1fb7f80005742c927e908db233cc11d%7C81fa7
 66ea34948678bf4ab35e250a08f%7C0%7C0%7C638142516450806204%7CUnknown%7CTWFpbG
 Zsb3d8eyJWIjoiMC4wLjAwMDAiLCJQIjoiV2luMzIiLCJBTiI6Ik1haWwiLCJXVCI6Mn0%3D%7C
 3000%7C%7C%7C&amp;sdata=HfcxoWh5T5R3byDT%2BQRfVus%2B%2BLf7cLmLQXTpveGe%2By0
 %3D&amp;reserved=0) till ett Teams möte\n(Kanske kan bli svårt vid frågestu
 nden, men vi får se om det fungerar)\nMed vänliga seglar hälsningar från 
 styrelsen i VIF.\n  This event was imported from: https://www.ifboat.se.hem
 sida.eu/kalender/icalrepeat.detail/2023/04/05/263/-/arsmoete-vif-5-april-ge
 o-11-90953159-57-69150162?tmpl=component
X-ALT-DESC;FMTTYPE=text/html:<div><p class="x_MsoNormal">Hej alla IF-båtsseglare ⯑&nbsp;</p></div><div>
 &nbsp;</div><div><p class="x_MsoNormal">Nu är det dags att börja tänka p
 å segling och att träffas igen!</p><p class="x_MsoNormal"><br aria-hidden
 ="true" />Vi börjar säsongen med att samlas Onsdagen den 5 April 2023 klock
 an 18.00 i Vin-lokalen på Porter Pelle</p><p class="x_MsoNormal">Adress: Ad
 olf Edelsvärds gata 11 nere vid Röda Sten</p><p class="x_MsoNormal"><b>&nbs
 p;</b></p><p class="x_MsoNormal">Vi inleder klockan 18.00 med årsmötesförha
 ndlingar, se bifogad dagordning.</p><p class="x_MsoNormal">Vid 19 beställer
  vi mat och dryck för den som vill och sedan fortsätter vi med genomgång/fr
 ågestund kring IF:s båtens ”svaga” punkter, utrustnings- och trimtips.</p><
 p class="x_MsoNormal">Kom laddad med frågor, så får du säkert svar från erf
 arna IF-seglare!</p><p class="x_MsoNormal">Vi ser fram emot en trevlig och 
 givande kväll med mat , dryck, diskussion och en fin upptakt som ger inspir
 ation inför den stundande säsongen!</p><p class="x_MsoNormal">Anmäl Dig NU 
 eller senast fredagen den 31/3;</p><p class="x_MsoNormal">Vi måste beställa
  maten innan, om man vill äta (Om vi blir fler än 10 personer)</p><p class=
 "x_MsoNormal"><b>Se länk&nbsp; <a href="https://eur02.safelinks.protection.
 outlook.com/?url=https%3A%2F%2Fwww.porterpelle.se%2Fmat%2F&amp;data=05%7C01
 %7Colof.oj.johnsson%40volvocars.com%7Ca1fb7f80005742c927e908db233cc11d%7C81
 fa766ea34948678bf4ab35e250a08f%7C0%7C0%7C638142516450806204%7CUnknown%7CTWF
 pbGZsb3d8eyJWIjoiMC4wLjAwMDAiLCJQIjoiV2luMzIiLCJBTiI6Ik1haWwiLCJXVCI6Mn0%3D
 %7C3000%7C%7C%7C&amp;sdata=0EnLeZ16azR%2FkHRTDi%2Boxt%2Bguj9Slwr6FnEjlHXkgh
 8%3D&amp;reserved=0" target="_blank" rel="noopener noreferrer" data-auth="N
 otApplicable" data-safelink="true" data-linkindex="1">Restaurang med lunch 
 nära Majorna – Porter Pelle Klippan Göteborg</a> .</b></p><p class="x_MsoNo
 rmal"><b><br aria-hidden="true" /></b>Anmälan och eventuella frågor görs ti
 ll: <a href="mailto:olof.oj.johnsson@volvocars.com" target="_blank" rel="no
 opener noreferrer" data-auth="NotApplicable" data-safelink="true" data-link
 index="2"></a><joomla-hidden-mail  is-link="1" is-email="1" first="b2xvZi5v
 ai5qb2huc3Nvbg==" last="dm9sdm9jYXJzLmNvbQ==" text="b2xvZi5vai5qb2huc3NvbkB
 2b2x2b2NhcnMuY29t" base="" >Den här e-postadressen skyddas mot spambots. Du
  måste tillåta JavaScript för att se den.</joomla-hidden-mail> &nbsp;eller 
 SMS: 0708-20 00 90.</p><p class="x_MsoNormal">För att delta online på årsmö
 tet&nbsp;kan du klicka på denna länk och&nbsp; <span lang="EN-US"><a href="
 https://eur02.safelinks.protection.outlook.com/ap/t-59584e83/?url=https%3A%
 2F%2Fteams.microsoft.com%2Fl%2Fmeetup-join%2F19%253ameeting_NTI4NDc1ZWYtOGQ
 wOC00OTQwLTk2OTctYWQxYWVlNDk2MWE5%2540thread.v2%2F0%3Fcontext%3D%257b%2522T
 id%2522%253a%252281fa766e-a349-4867-8bf4-ab35e250a08f%2522%252c%2522Oid%252
 2%253a%252269dba7b2-26e4-4efa-9bd9-818f264a2549%2522%257d&amp;data=05%7C01%
 7Colof.oj.johnsson%40volvocars.com%7Ca1fb7f80005742c927e908db233cc11d%7C81f
 a766ea34948678bf4ab35e250a08f%7C0%7C0%7C638142516450806204%7CUnknown%7CTWFp
 bGZsb3d8eyJWIjoiMC4wLjAwMDAiLCJQIjoiV2luMzIiLCJBTiI6Ik1haWwiLCJXVCI6Mn0%3D%
 7C3000%7C%7C%7C&amp;sdata=HfcxoWh5T5R3byDT%2BQRfVus%2B%2BLf7cLmLQXTpveGe%2B
 y0%3D&amp;reserved=0" target="_blank" rel="noopener noreferrer" data-auth="
 NotApplicable" data-safelink="true" data-linkindex="3"><span lang="SV">Clic
 k here to join the meeting</span></a></span> till ett Teams möte</p><p clas
 s="x_MsoNormal">(Kanske kan bli svårt vid frågestunden, men vi får se om de
 t fungerar)</p></div><div><p class="x_MsoNormal">Med vänliga seglar hälsni
 ngar från styrelsen i VIF.</p></div><div>&nbsp;</div> <a href="https://www
 .ifboat.se.hemsida.eu/kalender/icalrepeat.detail/2023/04/05/263/-/arsmoete-
 vif-5-april-geo-11-90953159-57-69150162?tmpl=component">This event was impo
 rted from: https://www.ifboat.se.hemsida.eu/kalender/icalrepeat.detail/2023
 /04/05/263/-/arsmoete-vif-5-april-geo-11-90953159-57-69150162?tmpl=componen
 t</a>DTSTAMP:20260420T165357
DTSTART;TZID=Europe/Stockholm:20230405T180000
DTEND;TZID=Europe/Stockholm:20230406T170000
SEQUENCE:0
TRANSP:OPAQUE
END:VEVENT
END:VCALENDAR