BEGIN:VCALENDAR
VERSION:2.0
PRODID:-//jEvents 2.0 for Joomla//EN
CALSCALE:GREGORIAN
METHOD:PUBLISH
BEGIN:VTIMEZONE
TZID:Europe/Stockholm
BEGIN:STANDARD
DTSTART:20220322T183000
RDATE:20220327T030000
TZOFFSETFROM:+0200
TZOFFSETTO:+0100
TZNAME:Europe/Stockholm CET
END:STANDARD
BEGIN:STANDARD
DTSTART:20221030T020000
RDATE:20230326T030000
TZOFFSETFROM:+0200
TZOFFSETTO:+0100
TZNAME:Europe/Stockholm CET
END:STANDARD
BEGIN:STANDARD
DTSTART:20231029T020000
RDATE:20240331T030000
TZOFFSETFROM:+0200
TZOFFSETTO:+0100
TZNAME:Europe/Stockholm CET
END:STANDARD
BEGIN:STANDARD
DTSTART:20241027T020000
RDATE:20250330T030000
TZOFFSETFROM:+0200
TZOFFSETTO:+0100
TZNAME:Europe/Stockholm CET
END:STANDARD
BEGIN:STANDARD
DTSTART:20251026T020000
RDATE:20260329T030000
TZOFFSETFROM:+0200
TZOFFSETTO:+0100
TZNAME:Europe/Stockholm CET
END:STANDARD
BEGIN:STANDARD
DTSTART:20261025T020000
RDATE:20270328T030000
TZOFFSETFROM:+0200
TZOFFSETTO:+0100
TZNAME:Europe/Stockholm CET
END:STANDARD
BEGIN:STANDARD
DTSTART:20271031T020000
RDATE:20280326T030000
TZOFFSETFROM:+0200
TZOFFSETTO:+0100
TZNAME:Europe/Stockholm CET
END:STANDARD
BEGIN:STANDARD
DTSTART:20281029T020000
RDATE:20290325T030000
TZOFFSETFROM:+0200
TZOFFSETTO:+0100
TZNAME:Europe/Stockholm CET
END:STANDARD
BEGIN:STANDARD
DTSTART:20291028T020000
RDATE:20300331T030000
TZOFFSETFROM:+0200
TZOFFSETTO:+0100
TZNAME:Europe/Stockholm CET
END:STANDARD
BEGIN:STANDARD
DTSTART:20301027T020000
RDATE:20310330T030000
TZOFFSETFROM:+0200
TZOFFSETTO:+0100
TZNAME:Europe/Stockholm CET
END:STANDARD
BEGIN:DAYLIGHT
DTSTART:20220327T030000
RDATE:20221030T020000
TZOFFSETFROM:+0100
TZOFFSETTO:+0200
TZNAME:Europe/Stockholm CEST
END:DAYLIGHT
BEGIN:DAYLIGHT
DTSTART:20230326T030000
RDATE:20231029T020000
TZOFFSETFROM:+0100
TZOFFSETTO:+0200
TZNAME:Europe/Stockholm CEST
END:DAYLIGHT
BEGIN:DAYLIGHT
DTSTART:20240331T030000
RDATE:20241027T020000
TZOFFSETFROM:+0100
TZOFFSETTO:+0200
TZNAME:Europe/Stockholm CEST
END:DAYLIGHT
BEGIN:DAYLIGHT
DTSTART:20250330T030000
RDATE:20251026T020000
TZOFFSETFROM:+0100
TZOFFSETTO:+0200
TZNAME:Europe/Stockholm CEST
END:DAYLIGHT
BEGIN:DAYLIGHT
DTSTART:20260329T030000
RDATE:20261025T020000
TZOFFSETFROM:+0100
TZOFFSETTO:+0200
TZNAME:Europe/Stockholm CEST
END:DAYLIGHT
BEGIN:DAYLIGHT
DTSTART:20270328T030000
RDATE:20271031T020000
TZOFFSETFROM:+0100
TZOFFSETTO:+0200
TZNAME:Europe/Stockholm CEST
END:DAYLIGHT
BEGIN:DAYLIGHT
DTSTART:20280326T030000
RDATE:20281029T020000
TZOFFSETFROM:+0100
TZOFFSETTO:+0200
TZNAME:Europe/Stockholm CEST
END:DAYLIGHT
BEGIN:DAYLIGHT
DTSTART:20290325T030000
RDATE:20291028T020000
TZOFFSETFROM:+0100
TZOFFSETTO:+0200
TZNAME:Europe/Stockholm CEST
END:DAYLIGHT
BEGIN:DAYLIGHT
DTSTART:20300331T030000
RDATE:20301027T020000
TZOFFSETFROM:+0100
TZOFFSETTO:+0200
TZNAME:Europe/Stockholm CEST
END:DAYLIGHT
END:VTIMEZONE
BEGIN:VEVENT
UID:8bb917226e5a815bc72aa4a674001255
CATEGORIES:SSIF
CREATED:20230222T191635
SUMMARY:SSIF årsmöte 2023
GEO:12.74606133;55.99478531
LOCATION:RHSS klubbhus Åkroken - Kajgatan\, Råå\, Skåne\, \, Sverige
URL;VALUE=URI:https://www.ifboat.se.hemsida.eu/kalender/icalrepeat.detail/2023/03/23/260/
 -/ssif-arsmoete-2023-geo-12-74606133-55-99478531?tmpl=component
DESCRIPTION:<p>Välkommen till SSIFs årsmöte 2023!</p><p>Dagordning och möteshandlingar 
 har skickats med mail till medlem.</p><p>Mötet hålls fysiskt men det går oc
 kså att delta med Teams.</p><p><a href="https://teams.microsoft.com/l/meetu
 p-join/19%3ameeting_YjI5ZWU5MzYtMzA4MC00MjRkLThiMWQtMDA0ODFkMjY4Mzk4%40thre
 ad.v2/0?context=%7b%22Tid%22%3a%22f45549b4-d1f8-4f07-b78f-eed6ce3ce2d0%22%2
 c%22Oid%22%3a%228c0dedd5-bc15-48b4-b68a-613640f0a1fc%22%7d">&gt;&gt; Anslut
  till mötet med Teams</a></p><p>Registrera gärna ditt deltagande så underlä
 ttas mötesadministrationen.</p> <a href="https://www.ifboat.se.hemsida.eu/k
 alender/icalrepeat.detail/2023/03/23/260/-/ssif-arsmoete-2023-geo-12-746061
 33-55-99478531?tmpl=component">This event was imported from: https://www.if
 boat.se.hemsida.eu/kalender/icalrepeat.detail/2023/03/23/260/-/ssif-arsmoet
 e-2023-geo-12-74606133-55-99478531?tmpl=component</a>CONTACT:Johan Winberg 0763 979822
DTSTAMP:20260420T120814
DTSTART;TZID=Europe/Stockholm:20230323T183000
DTEND;TZID=Europe/Stockholm:20230323T210000
SEQUENCE:0
TRANSP:OPAQUE
END:VEVENT
END:VCALENDAR