BEGIN:VCALENDAR
VERSION:2.0
PRODID:-//jEvents 2.0 for Joomla//EN
CALSCALE:GREGORIAN
METHOD:PUBLISH
BEGIN:VTIMEZONE
TZID:Europe/Stockholm
BEGIN:STANDARD
DTSTART:20220217T130000
RDATE:20220327T030000
TZOFFSETFROM:+0200
TZOFFSETTO:+0100
TZNAME:Europe/Stockholm CET
END:STANDARD
BEGIN:STANDARD
DTSTART:20221030T020000
RDATE:20230326T030000
TZOFFSETFROM:+0200
TZOFFSETTO:+0100
TZNAME:Europe/Stockholm CET
END:STANDARD
BEGIN:STANDARD
DTSTART:20231029T020000
RDATE:20240331T030000
TZOFFSETFROM:+0200
TZOFFSETTO:+0100
TZNAME:Europe/Stockholm CET
END:STANDARD
BEGIN:STANDARD
DTSTART:20241027T020000
RDATE:20250330T030000
TZOFFSETFROM:+0200
TZOFFSETTO:+0100
TZNAME:Europe/Stockholm CET
END:STANDARD
BEGIN:STANDARD
DTSTART:20251026T020000
RDATE:20260329T030000
TZOFFSETFROM:+0200
TZOFFSETTO:+0100
TZNAME:Europe/Stockholm CET
END:STANDARD
BEGIN:STANDARD
DTSTART:20261025T020000
RDATE:20270328T030000
TZOFFSETFROM:+0200
TZOFFSETTO:+0100
TZNAME:Europe/Stockholm CET
END:STANDARD
BEGIN:STANDARD
DTSTART:20271031T020000
RDATE:20280326T030000
TZOFFSETFROM:+0200
TZOFFSETTO:+0100
TZNAME:Europe/Stockholm CET
END:STANDARD
BEGIN:STANDARD
DTSTART:20281029T020000
RDATE:20290325T030000
TZOFFSETFROM:+0200
TZOFFSETTO:+0100
TZNAME:Europe/Stockholm CET
END:STANDARD
BEGIN:STANDARD
DTSTART:20291028T020000
RDATE:20300331T030000
TZOFFSETFROM:+0200
TZOFFSETTO:+0100
TZNAME:Europe/Stockholm CET
END:STANDARD
BEGIN:STANDARD
DTSTART:20301027T020000
RDATE:20310330T030000
TZOFFSETFROM:+0200
TZOFFSETTO:+0100
TZNAME:Europe/Stockholm CET
END:STANDARD
BEGIN:DAYLIGHT
DTSTART:20220327T030000
RDATE:20221030T020000
TZOFFSETFROM:+0100
TZOFFSETTO:+0200
TZNAME:Europe/Stockholm CEST
END:DAYLIGHT
BEGIN:DAYLIGHT
DTSTART:20230326T030000
RDATE:20231029T020000
TZOFFSETFROM:+0100
TZOFFSETTO:+0200
TZNAME:Europe/Stockholm CEST
END:DAYLIGHT
BEGIN:DAYLIGHT
DTSTART:20240331T030000
RDATE:20241027T020000
TZOFFSETFROM:+0100
TZOFFSETTO:+0200
TZNAME:Europe/Stockholm CEST
END:DAYLIGHT
BEGIN:DAYLIGHT
DTSTART:20250330T030000
RDATE:20251026T020000
TZOFFSETFROM:+0100
TZOFFSETTO:+0200
TZNAME:Europe/Stockholm CEST
END:DAYLIGHT
BEGIN:DAYLIGHT
DTSTART:20260329T030000
RDATE:20261025T020000
TZOFFSETFROM:+0100
TZOFFSETTO:+0200
TZNAME:Europe/Stockholm CEST
END:DAYLIGHT
BEGIN:DAYLIGHT
DTSTART:20270328T030000
RDATE:20271031T020000
TZOFFSETFROM:+0100
TZOFFSETTO:+0200
TZNAME:Europe/Stockholm CEST
END:DAYLIGHT
BEGIN:DAYLIGHT
DTSTART:20280326T030000
RDATE:20281029T020000
TZOFFSETFROM:+0100
TZOFFSETTO:+0200
TZNAME:Europe/Stockholm CEST
END:DAYLIGHT
BEGIN:DAYLIGHT
DTSTART:20290325T030000
RDATE:20291028T020000
TZOFFSETFROM:+0100
TZOFFSETTO:+0200
TZNAME:Europe/Stockholm CEST
END:DAYLIGHT
BEGIN:DAYLIGHT
DTSTART:20300331T030000
RDATE:20301027T020000
TZOFFSETFROM:+0100
TZOFFSETTO:+0200
TZNAME:Europe/Stockholm CEST
END:DAYLIGHT
END:VTIMEZONE
BEGIN:VEVENT
UID:b087ff7f544d835fe686400fdc16be11
CATEGORIES:IF-båtförbundet
CREATED:20230121T204731
SUMMARY:Årsmöte Svenska IF-båtförbundet
GEO:18.06112671;59.32131958
LOCATION:Röda Båten - Södermälarstrand Kajplats 6\, Stockholm\, \, 118 20\, 
URL;VALUE=URI:https://www.ifboat.se.hemsida.eu/kalender/icalrepeat.detail/2023/02/18/258/
 -/arsmoete-svenska-if-batfoerbundet-geo-18-06112671-59-32131958?tmpl=compon
 ent
DESCRIPTION:Välkomna till årsmöte för Svenska IF-båtförbundet!\nVi samlas från 13 och ä
 ter lunch. Årsmötet startar 14 och avslutas 16. Det blir efterhäng till 17,
  för de som vill prata IF-segling en stund till....\nÅrsmöteshandlingar fin
 ns i utskick Medvind Nr 1 2023.\n&gt;&gt; Anslut med Zoom (https://gu-se.zo
 om.us/j/66695495981?pwd=RkFycDNqa1laVnVoT1dEQ0lKSVFhQT09)\nHälsningar IF-bå
 tförbundets styrelse \n This event was imported from: https://www.ifboat.se
 .hemsida.eu/kalender/icalrepeat.detail/2023/02/18/258/-/arsmoete-svenska-if
 -batfoerbundet-geo-18-06112671-59-32131958?tmpl=component
X-ALT-DESC;FMTTYPE=text/html:<p>Välkomna till årsmöte för Svenska IF-båtförbundet!</p><p>Vi samlas från 
 13 och äter lunch.&nbsp;Årsmötet startar 14 och avslutas 16.&nbsp;Det blir 
 efterhäng till 17, för de som vill prata IF-segling en stund till....</p><p
 >Årsmöteshandlingar finns i utskick Medvind Nr 1 2023.</p><p><a href="https
 ://gu-se.zoom.us/j/66695495981?pwd=RkFycDNqa1laVnVoT1dEQ0lKSVFhQT09">&gt;&g
 t; Anslut med Zoom</a></p><p>Hälsningar IF-båtförbundets styrelse&nbsp;</p>
  <a href="https://www.ifboat.se.hemsida.eu/kalender/icalrepeat.detail/2023/
 02/18/258/-/arsmoete-svenska-if-batfoerbundet-geo-18-06112671-59-32131958?t
 mpl=component">This event was imported from: https://www.ifboat.se.hemsida.
 eu/kalender/icalrepeat.detail/2023/02/18/258/-/arsmoete-svenska-if-batfoerb
 undet-geo-18-06112671-59-32131958?tmpl=component</a>CONTACT:Karin Hårding 076-6183644
DTSTAMP:20260420T165357
DTSTART;TZID=Europe/Stockholm:20230218T130000
DTEND;TZID=Europe/Stockholm:20230218T160000
SEQUENCE:0
TRANSP:OPAQUE
END:VEVENT
END:VCALENDAR