BEGIN:VCALENDAR
VERSION:2.0
PRODID:-//jEvents 2.0 for Joomla//EN
CALSCALE:GREGORIAN
METHOD:PUBLISH
BEGIN:VTIMEZONE
TZID:Europe/Stockholm
BEGIN:STANDARD
DTSTART:20221030T020000
RDATE:20230326T030000
TZOFFSETFROM:+0200
TZOFFSETTO:+0100
TZNAME:Europe/Stockholm CET
END:STANDARD
BEGIN:STANDARD
DTSTART:20231029T020000
RDATE:20240331T030000
TZOFFSETFROM:+0200
TZOFFSETTO:+0100
TZNAME:Europe/Stockholm CET
END:STANDARD
BEGIN:STANDARD
DTSTART:20241027T020000
RDATE:20250330T030000
TZOFFSETFROM:+0200
TZOFFSETTO:+0100
TZNAME:Europe/Stockholm CET
END:STANDARD
BEGIN:STANDARD
DTSTART:20251026T020000
RDATE:20260329T030000
TZOFFSETFROM:+0200
TZOFFSETTO:+0100
TZNAME:Europe/Stockholm CET
END:STANDARD
BEGIN:STANDARD
DTSTART:20261025T020000
RDATE:20270328T030000
TZOFFSETFROM:+0200
TZOFFSETTO:+0100
TZNAME:Europe/Stockholm CET
END:STANDARD
BEGIN:STANDARD
DTSTART:20271031T020000
RDATE:20280326T030000
TZOFFSETFROM:+0200
TZOFFSETTO:+0100
TZNAME:Europe/Stockholm CET
END:STANDARD
BEGIN:STANDARD
DTSTART:20281029T020000
RDATE:20290325T030000
TZOFFSETFROM:+0200
TZOFFSETTO:+0100
TZNAME:Europe/Stockholm CET
END:STANDARD
BEGIN:STANDARD
DTSTART:20291028T020000
RDATE:20300331T030000
TZOFFSETFROM:+0200
TZOFFSETTO:+0100
TZNAME:Europe/Stockholm CET
END:STANDARD
BEGIN:STANDARD
DTSTART:20301027T020000
RDATE:20310330T030000
TZOFFSETFROM:+0200
TZOFFSETTO:+0100
TZNAME:Europe/Stockholm CET
END:STANDARD
BEGIN:DAYLIGHT
DTSTART:20220801T000000
RDATE:20221030T020000
TZOFFSETFROM:+0100
TZOFFSETTO:+0200
TZNAME:Europe/Stockholm CEST
END:DAYLIGHT
BEGIN:DAYLIGHT
DTSTART:20230326T030000
RDATE:20231029T020000
TZOFFSETFROM:+0100
TZOFFSETTO:+0200
TZNAME:Europe/Stockholm CEST
END:DAYLIGHT
BEGIN:DAYLIGHT
DTSTART:20240331T030000
RDATE:20241027T020000
TZOFFSETFROM:+0100
TZOFFSETTO:+0200
TZNAME:Europe/Stockholm CEST
END:DAYLIGHT
BEGIN:DAYLIGHT
DTSTART:20250330T030000
RDATE:20251026T020000
TZOFFSETFROM:+0100
TZOFFSETTO:+0200
TZNAME:Europe/Stockholm CEST
END:DAYLIGHT
BEGIN:DAYLIGHT
DTSTART:20260329T030000
RDATE:20261025T020000
TZOFFSETFROM:+0100
TZOFFSETTO:+0200
TZNAME:Europe/Stockholm CEST
END:DAYLIGHT
BEGIN:DAYLIGHT
DTSTART:20270328T030000
RDATE:20271031T020000
TZOFFSETFROM:+0100
TZOFFSETTO:+0200
TZNAME:Europe/Stockholm CEST
END:DAYLIGHT
BEGIN:DAYLIGHT
DTSTART:20280326T030000
RDATE:20281029T020000
TZOFFSETFROM:+0100
TZOFFSETTO:+0200
TZNAME:Europe/Stockholm CEST
END:DAYLIGHT
BEGIN:DAYLIGHT
DTSTART:20290325T030000
RDATE:20291028T020000
TZOFFSETFROM:+0100
TZOFFSETTO:+0200
TZNAME:Europe/Stockholm CEST
END:DAYLIGHT
BEGIN:DAYLIGHT
DTSTART:20300331T030000
RDATE:20301027T020000
TZOFFSETFROM:+0100
TZOFFSETTO:+0200
TZNAME:Europe/Stockholm CEST
END:DAYLIGHT
END:VTIMEZONE
BEGIN:VEVENT
UID:ad01d013c1599ee4a7248dfa263fd75c
CATEGORIES:IF-båtförbundet
CREATED:20230121T203306
SUMMARY:IF-SM 2023
GEO:17.62631798;59.78264999
LOCATION:Upsala segelsällskap - Skarholmsvögen 2\, Uppsala\, \, 756 653\, 
URL;VALUE=URI:https://www.ifboat.se.hemsida.eu/kalender/icalrepeat.detail/2023/08/02/257/
 -/if-sm-2023-geo-17-62631798-59-78264999?tmpl=component
DESCRIPTION:<p class="western"><span style="font-size: small;"><span style="color: #333
 333;"><span style="font-family: Calibri, sans-serif;"><span style="font-siz
 e: small;">Seglingarna arrangeras av USS och kommer gå i Uppsala på Ekoln, 
 Tune-up race 2/8 &amp; SM-seglingar 3-5/8.<br /><br /></span></span></span>
 </span><a href="https://www.sailarena.com/sv/se/club/uss/sm-if-bat/?fbclid=
 IwAR208aX-qMrgox3U9nevph3Hezc43NsC_jz_m0h8deZYnVOuvYVku3swFgM" target="_sel
 f">&gt;&gt; Sailarena IF-SM<br /></a><a href="index.php?option=com_content&
 amp;view=article&amp;id=316:sm-if-bat-2023&amp;catid=92:oif&amp;Itemid=650"
  target="_self"><span style="font-size: small;">&gt;&gt; IF-SM 2023 samlad 
 information</span><span style="font-family: Calibri, sans-serif;"> </span><
 /a></p> <a href="https://www.ifboat.se.hemsida.eu/kalender/icalrepeat.detai
 l/2023/08/02/257/-/if-sm-2023-geo-17-62631798-59-78264999?tmpl=component">T
 his event was imported from: https://www.ifboat.se.hemsida.eu/kalender/ical
 repeat.detail/2023/08/02/257/-/if-sm-2023-geo-17-62631798-59-78264999?tmpl=
 component</a>
X-ALT-DESC;FMTTYPE=text/html:<p class="western"><span style="font-size: small;"><span style="color: #333
 333;"><span style="font-family: Calibri, sans-serif;"><span style="font-siz
 e: small;">Seglingarna arrangeras av USS och kommer gå i Uppsala på Ekoln, 
 Tune-up race 2/8 &amp; SM-seglingar 3-5/8.<br /><br /></span></span></span>
 </span><a href="https://www.sailarena.com/sv/se/club/uss/sm-if-bat/?fbclid=
 IwAR208aX-qMrgox3U9nevph3Hezc43NsC_jz_m0h8deZYnVOuvYVku3swFgM" target="_sel
 f">&gt;&gt; Sailarena IF-SM<br /></a><a href="https://www.ifboat.se.hemsida
 .eu/index.php?option=com_content&amp;view=article&amp;id=316:sm-if-bat-2023
 &amp;catid=92:oif&amp;Itemid=650" target="_self"><span style="font-size: sm
 all;">&gt;&gt; IF-SM 2023 samlad information</span><span style="font-family
 : Calibri, sans-serif;"> </span></a></p> <a href="https://www.ifboat.se.hem
 sida.eu/kalender/icalrepeat.detail/2023/08/02/257/-/if-sm-2023-geo-17-62631
 798-59-78264999?tmpl=component">This event was imported from: https://www.i
 fboat.se.hemsida.eu/kalender/icalrepeat.detail/2023/08/02/257/-/if-sm-2023-
 geo-17-62631798-59-78264999?tmpl=component</a>CONTACT:Den här e-postadressen skyddas mot spambots. Du måste tillåta JavaScript för att se den. eller mobil 070- 2040438
DTSTAMP:20260420T164735
DTSTART;TZID=Europe/Stockholm;VALUE=DATE:20230802
DTEND;TZID=Europe/Stockholm;VALUE=DATE:20230803
SEQUENCE:0
TRANSP:OPAQUE
END:VEVENT
END:VCALENDAR