BEGIN:VCALENDAR
VERSION:2.0
PRODID:-//jEvents 2.0 for Joomla//EN
CALSCALE:GREGORIAN
METHOD:PUBLISH
BEGIN:VTIMEZONE
TZID:Europe/Stockholm
BEGIN:STANDARD
DTSTART:20211111T183000
RDATE:20220327T030000
TZOFFSETFROM:+0200
TZOFFSETTO:+0100
TZNAME:Europe/Stockholm CET
END:STANDARD
BEGIN:STANDARD
DTSTART:20221030T020000
RDATE:20230326T030000
TZOFFSETFROM:+0200
TZOFFSETTO:+0100
TZNAME:Europe/Stockholm CET
END:STANDARD
BEGIN:STANDARD
DTSTART:20231029T020000
RDATE:20240331T030000
TZOFFSETFROM:+0200
TZOFFSETTO:+0100
TZNAME:Europe/Stockholm CET
END:STANDARD
BEGIN:STANDARD
DTSTART:20241027T020000
RDATE:20250330T030000
TZOFFSETFROM:+0200
TZOFFSETTO:+0100
TZNAME:Europe/Stockholm CET
END:STANDARD
BEGIN:STANDARD
DTSTART:20251026T020000
RDATE:20260329T030000
TZOFFSETFROM:+0200
TZOFFSETTO:+0100
TZNAME:Europe/Stockholm CET
END:STANDARD
BEGIN:STANDARD
DTSTART:20261025T020000
RDATE:20270328T030000
TZOFFSETFROM:+0200
TZOFFSETTO:+0100
TZNAME:Europe/Stockholm CET
END:STANDARD
BEGIN:STANDARD
DTSTART:20271031T020000
RDATE:20280326T030000
TZOFFSETFROM:+0200
TZOFFSETTO:+0100
TZNAME:Europe/Stockholm CET
END:STANDARD
BEGIN:STANDARD
DTSTART:20281029T020000
RDATE:20290325T030000
TZOFFSETFROM:+0200
TZOFFSETTO:+0100
TZNAME:Europe/Stockholm CET
END:STANDARD
BEGIN:STANDARD
DTSTART:20291028T020000
RDATE:20300331T030000
TZOFFSETFROM:+0200
TZOFFSETTO:+0100
TZNAME:Europe/Stockholm CET
END:STANDARD
BEGIN:STANDARD
DTSTART:20301027T020000
RDATE:20310330T030000
TZOFFSETFROM:+0200
TZOFFSETTO:+0100
TZNAME:Europe/Stockholm CET
END:STANDARD
BEGIN:DAYLIGHT
DTSTART:20220327T030000
RDATE:20221030T020000
TZOFFSETFROM:+0100
TZOFFSETTO:+0200
TZNAME:Europe/Stockholm CEST
END:DAYLIGHT
BEGIN:DAYLIGHT
DTSTART:20230326T030000
RDATE:20231029T020000
TZOFFSETFROM:+0100
TZOFFSETTO:+0200
TZNAME:Europe/Stockholm CEST
END:DAYLIGHT
BEGIN:DAYLIGHT
DTSTART:20240331T030000
RDATE:20241027T020000
TZOFFSETFROM:+0100
TZOFFSETTO:+0200
TZNAME:Europe/Stockholm CEST
END:DAYLIGHT
BEGIN:DAYLIGHT
DTSTART:20250330T030000
RDATE:20251026T020000
TZOFFSETFROM:+0100
TZOFFSETTO:+0200
TZNAME:Europe/Stockholm CEST
END:DAYLIGHT
BEGIN:DAYLIGHT
DTSTART:20260329T030000
RDATE:20261025T020000
TZOFFSETFROM:+0100
TZOFFSETTO:+0200
TZNAME:Europe/Stockholm CEST
END:DAYLIGHT
BEGIN:DAYLIGHT
DTSTART:20270328T030000
RDATE:20271031T020000
TZOFFSETFROM:+0100
TZOFFSETTO:+0200
TZNAME:Europe/Stockholm CEST
END:DAYLIGHT
BEGIN:DAYLIGHT
DTSTART:20280326T030000
RDATE:20281029T020000
TZOFFSETFROM:+0100
TZOFFSETTO:+0200
TZNAME:Europe/Stockholm CEST
END:DAYLIGHT
BEGIN:DAYLIGHT
DTSTART:20290325T030000
RDATE:20291028T020000
TZOFFSETFROM:+0100
TZOFFSETTO:+0200
TZNAME:Europe/Stockholm CEST
END:DAYLIGHT
BEGIN:DAYLIGHT
DTSTART:20300331T030000
RDATE:20301027T020000
TZOFFSETFROM:+0100
TZOFFSETTO:+0200
TZNAME:Europe/Stockholm CEST
END:DAYLIGHT
END:VTIMEZONE
BEGIN:VEVENT
UID:7968435a6d04ba7dfd913dbb7987caea
CATEGORIES:VIF
CREATED:20220918T210422
SUMMARY:Höstfest VIF
GEO:11.8517704;57.67034531
LOCATION:LSS Klubbhus - Solhöjdsgatan 16\, Västra Frölunda\, \, 426 76\, 
URL;VALUE=URI:https://www.ifboat.se.hemsida.eu/kalender/icalrepeat.detail/2022/11/12/256/
 -/hoestfest-vif-geo-11-8517704-57-67034531?tmpl=component
DESCRIPTION:Som lovat lite mer information om VIF-festen lördagen den 12e november.\nPl
 atsen är som det brukar vara LSS vackra klubbhus i Långedrag, Solhöjdsgatan
  16, 426 76 Västra Frölunda.\nNärmaste parkering finns vid GKSS, Talattagat
 an.\n \nVi börjar kl. 18:30 med en välkomstdrink och därefter är det god ma
 t, IF-snack, sång, bildspel, quiz, osv.\nDet finns alkoholfritt att dricka 
 och om så önskas vegetariskt alternativ till skaldjursbuffén. Meddela detta
 , eller andra önskemål, i anmälan.\nKostnaden för kvällen är 300 Sek pp, in
 klusive mat och dricka, och betalas på plats, kontant eller med Swish.\n \n
 Anmälan: senast tisdag 8 november genom att skicka ett mejl till Den här e-
 postadressen skyddas mot spambots. Du måste tillåta JavaScript för att se d
 en..\n \nHjärtligt välkomna!\n This event was imported from: https://www.if
 boat.se.hemsida.eu/kalender/icalrepeat.detail/2022/11/12/256/-/hoestfest-vi
 f-geo-11-8517704-57-67034531?tmpl=component
X-ALT-DESC;FMTTYPE=text/html:<p>Som lovat lite mer information om VIF-festen lördagen den 12e november.<
 /p><p>Platsen är som det brukar vara LSS vackra klubbhus i Långedrag, Solhö
 jdsgatan 16, 426 76 Västra Frölunda.</p><p>Närmaste parkering finns vid GKS
 S, Talattagatan.</p><p>&nbsp;</p><p>Vi börjar kl. 18:30 med en välkomstdrin
 k och därefter är det god mat, IF-snack, sång, bildspel, quiz, osv.</p><p>D
 et finns alkoholfritt att dricka och om så önskas vegetariskt alternativ ti
 ll skaldjursbuffén. Meddela detta, eller andra önskemål, i anmälan.</p><p>K
 ostnaden för kvällen är 300 Sek pp, inklusive mat och dricka, och betalas p
 å plats, kontant eller med Swish.</p><p>&nbsp;</p><p>Anmälan: senast tisdag
  8 november genom att skicka ett mejl till <joomla-hidden-mail  is-link="1"
  is-email="1" first="am9vcC5zb21ob3JzdA==" last="Z21haWwuY29t" text="am9vcC
 5zb21ob3JzdEBnbWFpbC5jb20=" base="" >Den här e-postadressen skyddas mot spa
 mbots. Du måste tillåta JavaScript för att se den.</joomla-hidden-mail>.</p
 ><p>&nbsp;</p><p>Hjärtligt välkomna!</p> <a href="https://www.ifboat.se.hem
 sida.eu/kalender/icalrepeat.detail/2022/11/12/256/-/hoestfest-vif-geo-11-85
 17704-57-67034531?tmpl=component">This event was imported from: https://www
 .ifboat.se.hemsida.eu/kalender/icalrepeat.detail/2022/11/12/256/-/hoestfest
 -vif-geo-11-8517704-57-67034531?tmpl=component</a>CONTACT:Joop Somhorst, tel. 073-9028110, Den här e-postadressen skyddas mot spambots. Du måste tillåta JavaScript för att se den.
DTSTAMP:20260421T051038
DTSTART;TZID=Europe/Stockholm:20221112T183000
SEQUENCE:0
TRANSP:OPAQUE
END:VEVENT
END:VCALENDAR