BEGIN:VCALENDAR
VERSION:2.0
PRODID:-//jEvents 2.0 for Joomla//EN
CALSCALE:GREGORIAN
METHOD:PUBLISH
BEGIN:VTIMEZONE
TZID:Europe/Stockholm
BEGIN:STANDARD
DTSTART:20211031T020000
RDATE:20220327T030000
TZOFFSETFROM:+0200
TZOFFSETTO:+0100
TZNAME:Europe/Stockholm CET
END:STANDARD
BEGIN:STANDARD
DTSTART:20221030T020000
RDATE:20230326T030000
TZOFFSETFROM:+0200
TZOFFSETTO:+0100
TZNAME:Europe/Stockholm CET
END:STANDARD
BEGIN:STANDARD
DTSTART:20231029T020000
RDATE:20240331T030000
TZOFFSETFROM:+0200
TZOFFSETTO:+0100
TZNAME:Europe/Stockholm CET
END:STANDARD
BEGIN:STANDARD
DTSTART:20241027T020000
RDATE:20250330T030000
TZOFFSETFROM:+0200
TZOFFSETTO:+0100
TZNAME:Europe/Stockholm CET
END:STANDARD
BEGIN:STANDARD
DTSTART:20251026T020000
RDATE:20260329T030000
TZOFFSETFROM:+0200
TZOFFSETTO:+0100
TZNAME:Europe/Stockholm CET
END:STANDARD
BEGIN:STANDARD
DTSTART:20261025T020000
RDATE:20270328T030000
TZOFFSETFROM:+0200
TZOFFSETTO:+0100
TZNAME:Europe/Stockholm CET
END:STANDARD
BEGIN:STANDARD
DTSTART:20271031T020000
RDATE:20280326T030000
TZOFFSETFROM:+0200
TZOFFSETTO:+0100
TZNAME:Europe/Stockholm CET
END:STANDARD
BEGIN:STANDARD
DTSTART:20281029T020000
RDATE:20290325T030000
TZOFFSETFROM:+0200
TZOFFSETTO:+0100
TZNAME:Europe/Stockholm CET
END:STANDARD
BEGIN:STANDARD
DTSTART:20291028T020000
RDATE:20300331T030000
TZOFFSETFROM:+0200
TZOFFSETTO:+0100
TZNAME:Europe/Stockholm CET
END:STANDARD
BEGIN:STANDARD
DTSTART:20301027T020000
RDATE:20310330T030000
TZOFFSETFROM:+0200
TZOFFSETTO:+0100
TZNAME:Europe/Stockholm CET
END:STANDARD
BEGIN:DAYLIGHT
DTSTART:20210528T080000
RDATE:20211031T020000
TZOFFSETFROM:+0100
TZOFFSETTO:+0200
TZNAME:Europe/Stockholm CEST
END:DAYLIGHT
BEGIN:DAYLIGHT
DTSTART:20220327T030000
RDATE:20221030T020000
TZOFFSETFROM:+0100
TZOFFSETTO:+0200
TZNAME:Europe/Stockholm CEST
END:DAYLIGHT
BEGIN:DAYLIGHT
DTSTART:20230326T030000
RDATE:20231029T020000
TZOFFSETFROM:+0100
TZOFFSETTO:+0200
TZNAME:Europe/Stockholm CEST
END:DAYLIGHT
BEGIN:DAYLIGHT
DTSTART:20240331T030000
RDATE:20241027T020000
TZOFFSETFROM:+0100
TZOFFSETTO:+0200
TZNAME:Europe/Stockholm CEST
END:DAYLIGHT
BEGIN:DAYLIGHT
DTSTART:20250330T030000
RDATE:20251026T020000
TZOFFSETFROM:+0100
TZOFFSETTO:+0200
TZNAME:Europe/Stockholm CEST
END:DAYLIGHT
BEGIN:DAYLIGHT
DTSTART:20260329T030000
RDATE:20261025T020000
TZOFFSETFROM:+0100
TZOFFSETTO:+0200
TZNAME:Europe/Stockholm CEST
END:DAYLIGHT
BEGIN:DAYLIGHT
DTSTART:20270328T030000
RDATE:20271031T020000
TZOFFSETFROM:+0100
TZOFFSETTO:+0200
TZNAME:Europe/Stockholm CEST
END:DAYLIGHT
BEGIN:DAYLIGHT
DTSTART:20280326T030000
RDATE:20281029T020000
TZOFFSETFROM:+0100
TZOFFSETTO:+0200
TZNAME:Europe/Stockholm CEST
END:DAYLIGHT
BEGIN:DAYLIGHT
DTSTART:20290325T030000
RDATE:20291028T020000
TZOFFSETFROM:+0100
TZOFFSETTO:+0200
TZNAME:Europe/Stockholm CEST
END:DAYLIGHT
BEGIN:DAYLIGHT
DTSTART:20300331T030000
RDATE:20301027T020000
TZOFFSETFROM:+0100
TZOFFSETTO:+0200
TZNAME:Europe/Stockholm CEST
END:DAYLIGHT
END:VTIMEZONE
BEGIN:VEVENT
UID:59f3e4bb131dbdbcdbc051ee870aa38c
CATEGORIES:VIF
CREATED:20220511T195100
SUMMARY:LSS Vårregatta
GEO:11.84645939;57.67006683
LOCATION:Långedrag - Långedrag\, Göteborg\, \, \, Sverige
URL;VALUE=URI:https://www.ifboat.se.hemsida.eu/kalender/icalrepeat.detail/2022/05/29/250/
 -/lss-varregatta-geo-11-84645939-57-67006683?tmpl=component
DESCRIPTION:Mycket bra och välorganiserad entypskappsegling för kölbåtar, även roligt f
 ör de som precis har börjat / börjar sin kappseglingskarriär. Vid eventuell
 a frågor, kontakta Göran Ejdeling eller någon annan i VIFs styrelse. 3 race
  planeras, kryss-länsbana med startfartyg.\nLänk (https://www.ldss.se/Kapps
 egling/varregattaforkolbatar295/) till LSS hemsida.\n This event was import
 ed from: https://www.ifboat.se.hemsida.eu/kalender/icalrepeat.detail/2022/0
 5/29/250/-/lss-varregatta-geo-11-84645939-57-67006683?tmpl=component
X-ALT-DESC;FMTTYPE=text/html:<p>Mycket bra och välorganiserad entypskappsegling för kölbåtar, även rolig
 t för de som precis har börjat / börjar sin kappseglingskarriär. Vid eventu
 ella frågor, kontakta Göran Ejdeling eller någon annan i VIFs styrelse. 3 r
 ace planeras, kryss-länsbana med startfartyg.</p><p><a href="https://www.ld
 ss.se/Kappsegling/varregattaforkolbatar295/" target="_self">Länk</a> till L
 SS hemsida.</p> <a href="https://www.ifboat.se.hemsida.eu/kalender/icalrepe
 at.detail/2022/05/29/250/-/lss-varregatta-geo-11-84645939-57-67006683?tmpl=
 component">This event was imported from: https://www.ifboat.se.hemsida.eu/k
 alender/icalrepeat.detail/2022/05/29/250/-/lss-varregatta-geo-11-84645939-5
 7-67006683?tmpl=component</a>CONTACT:Göran Ejdeling, tel. 073-412 26 16
DTSTAMP:20260420T220315
DTSTART;TZID=Europe/Stockholm:20220529T080000
DTEND;TZID=Europe/Stockholm:20220529T170000
SEQUENCE:0
TRANSP:OPAQUE
END:VEVENT
END:VCALENDAR